BEGIN:VCALENDAR
VERSION:2.0
PRODID:-//wp-events-plugin.com//7.2.3.1//EN
TZID:Europe/Amsterdam
X-WR-TIMEZONE:Europe/Amsterdam
BEGIN:VEVENT
UID:40692@agenda-zaanstreek.nl
DTSTART;TZID=Europe/Amsterdam:20251127T203000
DTEND;TZID=Europe/Amsterdam:20251127T203000
DTSTAMP:20251120T104022Z
URL:https://agenda-zaanstreek.nl/events/dgw-film-mizu-no-onna-woman-of-wat
 er/
SUMMARY:DGW FILM - MIZU NO ONNA [Woman of Water]
DESCRIPTION:\n\n\n\n\n\n\n\n\n\n 	\n\ndonderdag\, nov 27\, 2025Open: 20:00A
 anvang: 20:30Prijs: €3\,-\n\n\n\n\nRegisseur: Hidenori Sugimori\nJaar: 2
 002\nLand: Japan\nDuur: 115 Minuten\n&nbsp\;\n\n\n\n\n\nRyo ervaart dat el
 ke belangrijke gebeurtenis in haar leven vergezeld gaat van regen (of heft
 ige regenval). Bijvoorbeeld: als ze een tand verliest\; als haar vader ste
 rft\; als haar vriend sterft. Ze erft de onsen (publiek badhuis) van haar 
 vader. Ze moet het draaiende houden en neemt de notoire pyromaan Yusaku aa
 n\, die klusjes opknapt en het vuur voor het badhuis stookt. Het vuur verw
 armt het water. Het water dooft het vuur….\n&nbsp\;\nHidenori Sugimori i
 s een van die onopgeloste mysteries van de cinema. Een regisseur die met z
 ijn eerste film veel aandacht trok\, maar daarna weer volledig uit de film
 wereld verdween. Toegegeven\,&nbsp\;Woman of Water&nbsp\;is niet de meest 
 toegankelijke film ter wereld\, maar Sugimori toont zo’n sterke toewijdi
 ng en regie dat het moeilijk te geloven is dat hij zijn tweede film niet g
 efinancierd heeft gekregen. Het scenario werd speciaal geschreven voor zan
 geres UA (echte naam: Kaori Shima)\, in wie Sugimori iets ziet van een sja
 manistische figuur\, en zette haar tegenover Tadanobu Asano een van de mee
 st toonaangevende acteurs in Japan de laatste 30 jaar&nbsp\; De combinatie
  UA (water\, emotie\, muziek) + Asano (vuur\, rauwere emotie\, confrontati
 e) biedt een sterk contrast dat visueel en dramaturgisch werkt in de film.
 \n&nbsp\;\nAls je van films houdt waarin natuur\, elementen\, sfeer en emo
 tie samenkomen\, en waar visuele metaforen belangrijk zijn\, dan is dit ee
 n parel. Het is geen film die je vooruit duwt met plottwists\, maar een fi
 lm om in te zinken: geluid\, geuren\, beelden\, stilte\, natuur. Goed voor
  wie openstaat voor cinema als ervaring\, niet alleen vermaak.\n\n\n\n\n\n
 \n
CATEGORIES:Film
LOCATION:De Groote Weiver\, Industrieweg 1a\, Wormerveer\, 1521 NA\, Wormer
 veer\, Nederland
X-APPLE-STRUCTURED-LOCATION;VALUE=URI;X-ADDRESS=Industrieweg 1a\, Wormervee
 r\, 1521 NA\, Wormerveer\, Nederland;X-APPLE-RADIUS=100;X-TITLE=De Groote 
 Weiver:geo:0,0
END:VEVENT
BEGIN:VTIMEZONE
TZID:Europe/Amsterdam
X-LIC-LOCATION:Europe/Amsterdam
BEGIN:STANDARD
DTSTART:20251026T020000
TZOFFSETFROM:+0200
TZOFFSETTO:+0100
TZNAME:CET
END:STANDARD
END:VTIMEZONE
END:VCALENDAR