BEGIN:VCALENDAR
VERSION:2.0
PRODID:-//wp-events-plugin.com//7.2.3.1//EN
TZID:Europe/Amsterdam
X-WR-TIMEZONE:Europe/Amsterdam
BEGIN:VEVENT
UID:36774@agenda-zaanstreek.nl
DTSTART;TZID=Europe/Amsterdam:20250216T120000
DTEND;TZID=Europe/Amsterdam:20250216T160000
DTSTAMP:20250115T105220Z
URL:https://agenda-zaanstreek.nl/events/derde-zondag-met-makkelijk-mannen/
SUMMARY:Derde Zondag met Makkelijk Mannen
DESCRIPTION:\nAanvang : 12:00 sluiting 16:00\nToegang : Gratis\nElke Derde 
 Zondag van de maand is de Zuidervermaning open voor publiek. Heel vaak is 
 e dan ook iets te doe\; dan hebben we een expositie of wordt er muziek ges
 peeld.\n\nDe Makkelijke Mannen spelen bekende hits en juweeltjes uit de be
 ste jaren van de popmuziek. Een feest van herkenning! Zeer geschikt voor v
 erjaardagen – speciaal voor degenen die al 50\, 60 of 70 rondjes om de z
 on hebben gedraaid…\n\nNadere informatie over tijdstip van spelen volgt.
 \n\n
CATEGORIES:Muziek
LOCATION:Zuidervermaning Westzaan\, Zuideinde 233\, Westzaan\, 1551 EG\, Ne
 derland
X-APPLE-STRUCTURED-LOCATION;VALUE=URI;X-ADDRESS=Zuideinde 233\, Westzaan\, 
 1551 EG\, Nederland;X-APPLE-RADIUS=100;X-TITLE=Zuidervermaning Westzaan:ge
 o:0,0
END:VEVENT
BEGIN:VTIMEZONE
TZID:Europe/Amsterdam
X-LIC-LOCATION:Europe/Amsterdam
BEGIN:STANDARD
DTSTART:20241027T020000
TZOFFSETFROM:+0200
TZOFFSETTO:+0100
TZNAME:CET
END:STANDARD
END:VTIMEZONE
END:VCALENDAR