BEGIN:VCALENDAR
VERSION:2.0
PRODID:-//wp-events-plugin.com//7.2.3.1//EN
TZID:Europe/Amsterdam
X-WR-TIMEZONE:Europe/Amsterdam
BEGIN:VEVENT
UID:36347@agenda-zaanstreek.nl
DTSTART;TZID=Europe/Amsterdam:20250218T140000
DTEND;TZID=Europe/Amsterdam:20250218T140000
DTSTAMP:20241212T103417Z
URL:https://agenda-zaanstreek.nl/events/delta-piano-trio-met-ab-nieuwdorp-
 als-verteller-uit-einsteins-vioolkist/
SUMMARY:Delta Piano Trio met Ab Nieuwdorp als verteller - Uit Einsteins vio
 olkist
DESCRIPTION:&nbsp\;\nDat Einstein een geniale wetenschapper was weten we\, 
 maar dat hij ook een zeer begaafd violist was\, is minder bekend. Tussen d
 e favoriete muziek van Einstein door vertelt Ab Nieuwdorp over het leven v
 an de wetenschapper\, aan de hand van mooie\, ontroerende en grappige verh
 alen en anekdotes. Hierin wordt ingegaan op de interessante band tussen we
 tenschap\, muziek en de persoon Einstein\, wiens liefde voor muziek weer t
 ot leven wordt gewekt.\n\n\n\n\n“Als ik geen wetenschapper zou zijn gewe
 est\, dan was ik waarschijnlijk musicus geworden. Ik denk vaak in muziek. 
 Ik dagdroom in muziek. Ik zie mijn leven in muziek\,” aldus Einstein.\n\
 nUit Einsteins vioolkist&nbsp\;is een vertelconcert met muziekwerken van o
 .m. W.A. Mozart\, E. Bloch\, L. van Beethoven\, B. Martinu\, F. Schubert e
 n F. Kreisler\, uitgevoerd door het Delta Piano Trio.\n\nHet Delta Piano T
 rio werd in 2013 in Salzburg opgericht door drie Nederlandse musici: violi
 st Gerard Spronk\, celliste Irene Enzlin en pianiste Vera Kooper. Ze zien 
 kamermuziek als een vorm van communicatie\, uitwisseling van ideeën en on
 tdekking. Het trio staat bekend om zijn persoonlijke repertoirekeuze\, waa
 rbij diverse stijlen kunnen samensmelten\; hun repertoire omvat het hele s
 pectrum van de literatuur voor pianotrio. In Nederland ontving het trio in
  2021 de prestigieuze Kersjesprijs. In het juryrapport is te lezen: “De 
 warme\, weelderige klank\, de perfecte balans en het meeslepende spel van 
 het Delta Piano Trio hebben ons overrompeld.”\n\n\n\n
CATEGORIES:Klassiek,Muziek
LOCATION:Zaantheater\, Nicolaasstraat 3\, Zaandam\, 1506 BB\, Nederland
X-APPLE-STRUCTURED-LOCATION;VALUE=URI;X-ADDRESS=Nicolaasstraat 3\, Zaandam\
 , 1506 BB\, Nederland;X-APPLE-RADIUS=100;X-TITLE=Zaantheater:geo:0,0
END:VEVENT
BEGIN:VTIMEZONE
TZID:Europe/Amsterdam
X-LIC-LOCATION:Europe/Amsterdam
BEGIN:STANDARD
DTSTART:20241027T020000
TZOFFSETFROM:+0200
TZOFFSETTO:+0100
TZNAME:CET
END:STANDARD
END:VTIMEZONE
END:VCALENDAR