BEGIN:VCALENDAR
VERSION:2.0
PRODID:-//wp-events-plugin.com//7.2.3.1//EN
TZID:Europe/Amsterdam
X-WR-TIMEZONE:Europe/Amsterdam
BEGIN:VEVENT
UID:39137@agenda-zaanstreek.nl
DTSTART;TZID=Europe/Amsterdam:20250622T140000
DTEND;TZID=Europe/Amsterdam:20250622T200000
DTSTAMP:20250612T093233Z
URL:https://agenda-zaanstreek.nl/events/de-zaanse-speciaalbier-route/
SUMMARY:De Zaanse Speciaalbier route
DESCRIPTION:\n\n\n\n\nDe vierde editie van de Zaanse Speciaalbier Route gaa
 t van start en dat op zondag 22 juni.\n\nEen (willekeurige) fietsroute lan
 gs Brouwerij Hoop\, Proeflokaal de Kruis\, Het Tolhuys aan de Zaan\, Café
  de Fabriek en Café Swart.Bij iedere zaak ontvang je een vers getapt spec
 iaalbier inclusief een bijpassend hapje.\n\nHeb jij alle zaken gehad?\nLev
 er je VOLLE stempelkaart in!\n\nUit alle ingeleverde stempelkaarten verlot
 en wij een gigantisch bierpakket vanuit slijterij Vonk.\n\nDeelname aan de
  route bedraagt €36\,- p.p.\nHierbij ontvang je op iedere locatie een ta
 pbier inclusief hapje.\n\n
CATEGORIES:Horeca
LOCATION:Brouwerij Hoop\, Lagedijk 69-73\, Zaandijk\, 1544 BC\, Nederland
X-APPLE-STRUCTURED-LOCATION;VALUE=URI;X-ADDRESS=Lagedijk 69-73\, Zaandijk\,
  1544 BC\, Nederland;X-APPLE-RADIUS=100;X-TITLE=Brouwerij Hoop:geo:0,0
END:VEVENT
BEGIN:VTIMEZONE
TZID:Europe/Amsterdam
X-LIC-LOCATION:Europe/Amsterdam
BEGIN:DAYLIGHT
DTSTART:20250330T030000
TZOFFSETFROM:+0100
TZOFFSETTO:+0200
TZNAME:CEST
END:DAYLIGHT
END:VTIMEZONE
END:VCALENDAR