BEGIN:VCALENDAR
VERSION:2.0
PRODID:-//wp-events-plugin.com//7.2.3.1//EN
TZID:Europe/Amsterdam
X-WR-TIMEZONE:Europe/Amsterdam
BEGIN:VEVENT
UID:36108@agenda-zaanstreek.nl
DTSTART;TZID=Europe/Amsterdam:20241125T110000
DTEND;TZID=Europe/Amsterdam:20241126T180000
DTSTAMP:20241128T141920Z
URL:https://agenda-zaanstreek.nl/events/de-zaanse-schilderskring/
SUMMARY:De Zaanse Schilderskring
DESCRIPTION:Jaarlijks organiseren we met Kerstmis op 25 en 26 december een 
 expositie in het Weefhuis in Zaandijk. De schilders tonen hun werk naar ei
 gen gekozen onderwerp\, stijl en techniek. De stijl varieert van abstract 
 tot realistisch en van kleurrijk tot ingetogen kleurgebruik.
CATEGORIES:Expositie
LOCATION:Het Weefhuis\, Lagedijk 39\, Zaandijk\, 1544 BB\, Nederland
X-APPLE-STRUCTURED-LOCATION;VALUE=URI;X-ADDRESS=Lagedijk 39\, Zaandijk\, 15
 44 BB\, Nederland;X-APPLE-RADIUS=100;X-TITLE=Het Weefhuis:geo:0,0
END:VEVENT
BEGIN:VTIMEZONE
TZID:Europe/Amsterdam
X-LIC-LOCATION:Europe/Amsterdam
BEGIN:STANDARD
DTSTART:20241027T020000
TZOFFSETFROM:+0200
TZOFFSETTO:+0100
TZNAME:CET
END:STANDARD
END:VTIMEZONE
END:VCALENDAR