BEGIN:VCALENDAR
VERSION:2.0
PRODID:-//wp-events-plugin.com//7.2.3.1//EN
TZID:Europe/Amsterdam
X-WR-TIMEZONE:Europe/Amsterdam
BEGIN:VEVENT
UID:38127@agenda-zaanstreek.nl
DTSTART;TZID=Europe/Amsterdam:20250414T143000
DTEND;TZID=Europe/Amsterdam:20250414T163000
DTSTAMP:20250408T093605Z
URL:https://agenda-zaanstreek.nl/events/de-regenboog-salon-met-een-amsterd
 amse-pubquiz/
SUMMARY:De Regenboog Salon met een Amsterdamse Pubquiz
DESCRIPTION:Maandag 14\napril\nDe Regenboog Salon met een Amsterdamse Pubqu
 iz. Entree 4\,50. Bij het Evean\nErasmushuis\, Noorderven 79\, Zaandam. Va
 n 14.30 tot 16.30 uur.\nInfo en inschrijven: receptieerasmushuis@evean.nl
CATEGORIES:Sociaal | LHBTQI-gemeenschap,Spellen (bingo-bridge-etc)
LOCATION:Evean Erasmushuis\, Noorderven 79\, Zaandam\, 1504 AL\, Nederland
X-APPLE-STRUCTURED-LOCATION;VALUE=URI;X-ADDRESS=Noorderven 79\, Zaandam\, 1
 504 AL\, Nederland;X-APPLE-RADIUS=100;X-TITLE=Evean Erasmushuis:geo:0,0
END:VEVENT
BEGIN:VTIMEZONE
TZID:Europe/Amsterdam
X-LIC-LOCATION:Europe/Amsterdam
BEGIN:DAYLIGHT
DTSTART:20250330T030000
TZOFFSETFROM:+0100
TZOFFSETTO:+0200
TZNAME:CEST
END:DAYLIGHT
END:VTIMEZONE
END:VCALENDAR