BEGIN:VCALENDAR
VERSION:2.0
PRODID:-//wp-events-plugin.com//7.2.3.1//EN
TZID:Europe/Amsterdam
X-WR-TIMEZONE:Europe/Amsterdam
BEGIN:VEVENT
UID:36133@agenda-zaanstreek.nl
DTSTART;TZID=Europe/Amsterdam:20241209T143000
DTEND;TZID=Europe/Amsterdam:20241209T163000
DTSTAMP:20241204T110452Z
URL:https://agenda-zaanstreek.nl/events/de-regenboog-salon-evean-erasmushu
 is-2/
SUMMARY:De Regenboog Salon\, Evean Erasmushuis
DESCRIPTION:Maandag 9 december\nDe Regenboog Salon\, Evean Erasmushuis\, No
 orderven 79\, Zaandam. Van 14.30 - 16.30 uur.\nInfo: receptieerasmushuis@e
 vean.nl
CATEGORIES:Sociaal | LHBTQI-gemeenschap
LOCATION:Evean Erasmushuis\, Noorderven 79\, Zaandam\, 1504 AL\, Nederland
X-APPLE-STRUCTURED-LOCATION;VALUE=URI;X-ADDRESS=Noorderven 79\, Zaandam\, 1
 504 AL\, Nederland;X-APPLE-RADIUS=100;X-TITLE=Evean Erasmushuis:geo:0,0
END:VEVENT
BEGIN:VTIMEZONE
TZID:Europe/Amsterdam
X-LIC-LOCATION:Europe/Amsterdam
BEGIN:STANDARD
DTSTART:20241027T020000
TZOFFSETFROM:+0200
TZOFFSETTO:+0100
TZNAME:CET
END:STANDARD
END:VTIMEZONE
END:VCALENDAR