BEGIN:VCALENDAR
VERSION:2.0
PRODID:-//wp-events-plugin.com//7.2.3.1//EN
TZID:Europe/Amsterdam
X-WR-TIMEZONE:Europe/Amsterdam
BEGIN:VEVENT
UID:38713@agenda-zaanstreek.nl
DTSTART;TZID=Europe/Amsterdam:20250516T200000
DTEND;TZID=Europe/Amsterdam:20250516T200000
DTSTAMP:20250515T094559Z
URL:https://agenda-zaanstreek.nl/events/de-oneindigheid-van-het-universum/
SUMMARY:De oneindigheid van het universum
DESCRIPTION:\n\n 	De oneindigheid van het universum\n\n 	2023 - 7 april &am
 p\; 2024 - 16 februari &amp\; 2025 - 16 meiHoe groot is het universum waar
  wij in leven en welke vorm heeft het? Er zijn verschillende kosmologische
  theorieën die invulling proberen te geven aan het ontstaan en de evoluti
 e van het universum\, waarbij zwaartekracht\, tijd en ruimte een belangrij
 ke rol spelen. De relativiteitstheorieën van Einstein blijken veel van he
 t waarneembare universum te verklaren\, maar voorbij het grensvlak met de 
 kwantumfysica blijkt het universum zich anders te gedragen. Er zijn nog zo
 veel dingen die we niet kunnen zien en die we dan als 'donker' benoemen. V
 erklaart donkere materie de ontbrekende massa in sterrenstelsels\, kan don
 kere straling aan de zwarte gaten ontsnappen en wordt ons universum door d
 onkere energie uit elkaar getrokken? We gaan een aantal van die theorieën
  beschouwen en filosoferen over het universum of het bestaan meerdere univ
 ersums.\n\n\n
CATEGORIES:Lezing
LOCATION:Vesta-Oostzaanse Sterrenwacht\, Zuideinde 197\, Oostzaan\, 1511 GD
 \, Nederland
X-APPLE-STRUCTURED-LOCATION;VALUE=URI;X-ADDRESS=Zuideinde 197\, Oostzaan\, 
 1511 GD\, Nederland;X-APPLE-RADIUS=100;X-TITLE=Vesta-Oostzaanse Sterrenwac
 ht:geo:0,0
END:VEVENT
BEGIN:VTIMEZONE
TZID:Europe/Amsterdam
X-LIC-LOCATION:Europe/Amsterdam
BEGIN:DAYLIGHT
DTSTART:20250330T030000
TZOFFSETFROM:+0100
TZOFFSETTO:+0200
TZNAME:CEST
END:DAYLIGHT
END:VTIMEZONE
END:VCALENDAR