BEGIN:VCALENDAR
VERSION:2.0
PRODID:-//wp-events-plugin.com//7.2.3.1//EN
TZID:Europe/Amsterdam
X-WR-TIMEZONE:Europe/Amsterdam
BEGIN:VEVENT
UID:38202@agenda-zaanstreek.nl
DTSTART;TZID=Europe/Amsterdam:20250419T093000
DTEND;TZID=Europe/Amsterdam:20250419T093000
DTSTAMP:20250410T095925Z
URL:https://agenda-zaanstreek.nl/events/de-laatste-loodjes-jubileum-loop/
SUMMARY:De Laatste Loodjes Jubileum Loop
DESCRIPTION:\n\n\nZaterdag 19 April\n​​​​​​​DLL 90 Jubileum L
 oop\nStartplaats : ’t Zaans Hoekje\nDe Watering 1\, 1503 VR Zaandam\nAfs
 tanden : 10 – 15 – 20 km\nStarttijden:&nbsp\; 20 Km 09:30 – 10:30 uu
 r\n15 Km 09:30 – 11:00\n10 Km 09:30 – 12:00\nInschrijfgeld : € 6\,00
  bondsleden € 5\,00 DLL leden € 4\,00.\nBij voorkeur ter plekke met PI
 N betalen.\nHiervoor ontvang je :\nEen routebeschrijving\, GPX download\nS
 peciale DLL 90 Stempel\nReceptie 14:00 – 16:30 i.v.m. 90-jarig bestaan.\
 nKomt Allen\nPer persoon aanmelden a.u.b.
CATEGORIES:Recreatiesport
LOCATION:Het Zaanse Hoekje\, De Watering 1\, Zaandam\, 1503 VR\, Nederland
X-APPLE-STRUCTURED-LOCATION;VALUE=URI;X-ADDRESS=De Watering 1\, Zaandam\, 1
 503 VR\, Nederland;X-APPLE-RADIUS=100;X-TITLE=Het Zaanse Hoekje:geo:0,0
END:VEVENT
BEGIN:VTIMEZONE
TZID:Europe/Amsterdam
X-LIC-LOCATION:Europe/Amsterdam
BEGIN:DAYLIGHT
DTSTART:20250330T030000
TZOFFSETFROM:+0100
TZOFFSETTO:+0200
TZNAME:CEST
END:DAYLIGHT
END:VTIMEZONE
END:VCALENDAR