BEGIN:VCALENDAR
VERSION:2.0
PRODID:-//wp-events-plugin.com//7.2.3.1//EN
TZID:Europe/Amsterdam
X-WR-TIMEZONE:Europe/Amsterdam
BEGIN:VEVENT
UID:34753@agenda-zaanstreek.nl
DTSTART;TZID=Europe/Amsterdam:20250117T203000
DTEND;TZID=Europe/Amsterdam:20250117T203000
DTSTAMP:20240912T093121Z
URL:https://agenda-zaanstreek.nl/events/de-hardrock-karaoke/
SUMMARY:De Hardrock Karaoke!
DESCRIPTION:17janDe Hardrock Karaoke!Podium DE FLUX\, Hemkade 48\, 1506 PS 
 Zaandam20:30Tickets\n\n\n\n\n\nDe twee edities in DE FLUX afgelopen jaar w
 aren zo tof\, daarom nu nog een keertje: De Hardrock Karaoke!\n\n\n\n\n\n\
 n\n\n\n\nIn september 2015 speelde Bob Fosko met zijn Raggende Manne een l
 egendarische show in DE FLUX. In het jaar 2004 maakte deze te vroeg overle
 den beroeps-schreeuwlelijk een trip naar New York. In een schimmig cafeetj
 e zag hij hoe de gasten hardrock klassiekers konden uitkiezen en die met l
 ive begeleiding zongen. Fosko was zo enthousiast dat hij terug in Amsterda
 m de formule bij het Nederlandse publiek introduceerde. Toen hij zelf door
  verplichtingen moest afzwaaien\, bleef de Hardrock Karaoke bestaan en gro
 eide uit tot een begrip in de stad.\n\nNa publicaties in Panorama en de Ni
 euwe Revu begonnen ook de grote festivals als Paaspop\, de Zwarte Cross en
  Lowlands de Hardrock Karaoke te boeken en verschenen ze zelfs op luxe cru
 iseschepen en evenementenlocaties. Tot op de dag van vandaag kent de Hardr
 ock Karaoke dezelfde bezetting als uit het prilste begin: Cyril Directie o
 p drums\, Arnold Smits op gitaar\, Thijs Vermeulen op basgitaar. Jeroen de
 n Hengst presenteert de avond en speelt gitaar. Verder wordt de band liefd
 evol geassisteerd door Dirkje Repko die de inschrijvingen regelt en de tek
 stvellen ophoudt\, en de zangers en zangeressen een borrel geeft als ze sc
 hor geschreeuwd van het podium komen\n\nHoe werkt het?\nJe staat dus met e
 en band op het podium bestaande uit een aantal stermuzikanten. Je zingt ni
 et mee met een beeldscherm maar krijgt handgeschreven teksten voorgehouden
 . Iedereen die het podium opgaat is een held en eindigt zijn lied met een 
 afsprong!\n\nHoe meld je je aan?\nEr ligt een intekenlijst op de bar en je
  kunt kiezen uit meer dan 70 songs. Het is ook handig om de tekst op je mo
 bieltje op te zoeken. Elk nummer wordt maar één keer gespeeld op een avo
 nd\, dus wees er op tijd bij om je in te schrijven!\n\n\n\n\n\n\n\n
CATEGORIES:Muziek
LOCATION:Podium De Flux\, Hemkade 48\, Zaandam\, 1506 PS\, Nederland
X-APPLE-STRUCTURED-LOCATION;VALUE=URI;X-ADDRESS=Hemkade 48\, Zaandam\, 1506
  PS\, Nederland;X-APPLE-RADIUS=100;X-TITLE=Podium De Flux:geo:0,0
END:VEVENT
BEGIN:VTIMEZONE
TZID:Europe/Amsterdam
X-LIC-LOCATION:Europe/Amsterdam
BEGIN:STANDARD
DTSTART:20241027T020000
TZOFFSETFROM:+0200
TZOFFSETTO:+0100
TZNAME:CET
END:STANDARD
END:VTIMEZONE
END:VCALENDAR