BEGIN:VCALENDAR
VERSION:2.0
PRODID:-//wp-events-plugin.com//7.2.3.1//EN
TZID:Europe/Amsterdam
X-WR-TIMEZONE:Europe/Amsterdam
BEGIN:VEVENT
UID:36225@agenda-zaanstreek.nl
DTSTART;TZID=Europe/Amsterdam:20250209T133000
DTEND;TZID=Europe/Amsterdam:20250209T160000
DTSTAMP:20241205T111336Z
URL:https://agenda-zaanstreek.nl/events/de-gorgels-4-naar-het-boek-van-joc
 hem-myjer-2x/
SUMMARY:De Gorgels (4+) - Naar het boek van Jochem Myjer (2x)
DESCRIPTION:&nbsp\;\nDe Gorgels is gebaseerd op het gelijknamige geliefde k
 inderboek van komiek Jochem Myjer. En nu is dit fantasierijke en spannende
  avontuur eindelijk te zien in het theater. Voor alle kinderen onder de 90
  jaar (en natuurlijk ook voor iedere leeftijd erboven)!\n\n\n\n\nMidden in
  de nacht wordt Melle wakker. Er zit een vreemd wezentje op de rand van zi
 jn bed. Het lijkt wel een bolletje wol\, met armpjes en beentjes en twee h
 arige\, puntige oren. Maar als Melle het licht aandoet\, is het wezentje v
 erdwenen. Als hij er op school over vertelt\, lacht iedereen hem uit. Zelf
 s papa\, die bioloog is\, zegt dat het onzin is\, dat zulke wezentjes niet
  bestaan. Maar Melle weet zeker wat hij gezien heeft… Hij gaat met zijn 
 superogen op onderzoek uit en beleeft de spannendste avonturen.\n\n\n\n
CATEGORIES:Jeugd en Familie,Theater
LOCATION:Zaantheater\, Nicolaasstraat 3\, Zaandam\, 1506 BB\, Nederland
X-APPLE-STRUCTURED-LOCATION;VALUE=URI;X-ADDRESS=Nicolaasstraat 3\, Zaandam\
 , 1506 BB\, Nederland;X-APPLE-RADIUS=100;X-TITLE=Zaantheater:geo:0,0
END:VEVENT
BEGIN:VTIMEZONE
TZID:Europe/Amsterdam
X-LIC-LOCATION:Europe/Amsterdam
BEGIN:STANDARD
DTSTART:20241027T020000
TZOFFSETFROM:+0200
TZOFFSETTO:+0100
TZNAME:CET
END:STANDARD
END:VTIMEZONE
END:VCALENDAR