BEGIN:VCALENDAR
VERSION:2.0
PRODID:-//wp-events-plugin.com//7.2.3.1//EN
TZID:Europe/Amsterdam
X-WR-TIMEZONE:Europe/Amsterdam
BEGIN:VEVENT
UID:40223@agenda-zaanstreek.nl
DTSTART;TZID=Europe/Amsterdam:20251120T194500
DTEND;TZID=Europe/Amsterdam:20251120T194500
DTSTAMP:20250918T101550Z
URL:https://agenda-zaanstreek.nl/events/de-evolutie-van-de-quasars/
SUMMARY:De evolutie van de Quasars
DESCRIPTION:20 november 2025\nDrs. Robert de Jong\n\nHet heelal is vooral l
 eeg. Te midden van die leegtes bestaat er hier en daar een&nbsp\;&nbsp\; s
 terreneiland. Dat zijn plaatsen in het heelal waar miljoenen tot miljarden
  sterren bij elkaar aanwezig zijn. Dat zijn de sterrenstelsels. Het mooist
 e voorbeeld hiervan is de Andromedanevel (M31)\, maar ook onze eigen Melkw
 eg. Daar ‘wonen’ we zelf in. De sterrenstelsels zijn ooit begonnen als
  Quasars. Die worden gezien als de eerste sterrenstelsels in wording: ‘b
 aby-sterrenstelsels’. Ze staan veelal extreem ver weg van de Aarde\, en 
 zijn rond de duizend keer zo helder als een gewoon sterrenstelsel. Geen é
 én hemelobject geeft zoveel licht dan&nbsp\;een Quasar. Wat is de oorzaak
  dat een Quasar zoveel licht geeft? Wat kunnen we leren van het nog jonge 
 heelal? Kun je een Quasar met een amateurtelescoop zien?\nAan het einde va
 n de voordracht ben je hierbij uitgenodigd om mee te doen met de quiz die 
 je met je mobiele telefoon kunt beantwoorden.\n&nbsp\;\nU heeft als belang
 stellende op deze avond vrij toegang. De avond begint om 19.45 uur. Het aa
 ntal zitplaatsen is beperkt\, daarom is reserveren (jandejongwormer@kpnmai
 l.nl) aan te raden. Er is een toegangsregeling die u kunt nalezen op deze 
 website.
CATEGORIES:Lezing
LOCATION:Vesta-Oostzaanse Sterrenwacht\, Zuideinde 197\, Oostzaan\, 1511 GD
 \, Nederland
X-APPLE-STRUCTURED-LOCATION;VALUE=URI;X-ADDRESS=Zuideinde 197\, Oostzaan\, 
 1511 GD\, Nederland;X-APPLE-RADIUS=100;X-TITLE=Vesta-Oostzaanse Sterrenwac
 ht:geo:0,0
END:VEVENT
BEGIN:VTIMEZONE
TZID:Europe/Amsterdam
X-LIC-LOCATION:Europe/Amsterdam
BEGIN:STANDARD
DTSTART:20251026T020000
TZOFFSETFROM:+0200
TZOFFSETTO:+0100
TZNAME:CET
END:STANDARD
END:VTIMEZONE
END:VCALENDAR