BEGIN:VCALENDAR
VERSION:2.0
PRODID:-//wp-events-plugin.com//7.2.3.1//EN
TZID:Europe/Amsterdam
X-WR-TIMEZONE:Europe/Amsterdam
BEGIN:VEVENT
UID:40906@agenda-zaanstreek.nl
DTSTART;TZID=Europe/Amsterdam:20251227T200000
DTEND;TZID=Europe/Amsterdam:20251227T200000
DTSTAMP:20251218T102349Z
URL:https://agenda-zaanstreek.nl/events/de-cabaret-club/
SUMMARY:De Cabaret Club
DESCRIPTION:\n\n\n\n\n\nza 27 dec 202520.00\nAlbert Heijnzaal\n€17\,25 - 
 €31\,65\nCabaret\n\nFavoriet\nBestel\n\n\n\n\n\n\n\n\n 	&nbsp\;\n 	Theat
 er\n 	Agenda\n 	Seizoen 2025-2026\n 	De Cabaret Club\n\n\n\n\n\n\n\n\n 	Ca
 baret\n\n\n\n\nDeze avond brengen we de club naar het theater. In deze lin
 e-up show zie je vier verschillende mini-cabaretvoorstellingen. Bekende en
  nieuwe cabaretiers zorgen met nieuw en beproefd materiaal voor een afwiss
 elende humoristische avond. Geen avond is hetzelfde en de line-up blijft a
 ltijd geheim. Maak kennis met nieuw talent of laat je verrassen door ervar
 en cabaretiers. Ga het avontuur aan. Bezoek de club.\n\n\n\n\n
CATEGORIES:Cabaret
LOCATION:Zaantheater\, Nicolaasstraat 3\, Zaandam\, 1506 BB\, Nederland
X-APPLE-STRUCTURED-LOCATION;VALUE=URI;X-ADDRESS=Nicolaasstraat 3\, Zaandam\
 , 1506 BB\, Nederland;X-APPLE-RADIUS=100;X-TITLE=Zaantheater:geo:0,0
END:VEVENT
BEGIN:VTIMEZONE
TZID:Europe/Amsterdam
X-LIC-LOCATION:Europe/Amsterdam
BEGIN:STANDARD
DTSTART:20251026T020000
TZOFFSETFROM:+0200
TZOFFSETTO:+0100
TZNAME:CET
END:STANDARD
END:VTIMEZONE
END:VCALENDAR