BEGIN:VCALENDAR
VERSION:2.0
PRODID:-//wp-events-plugin.com//7.2.3.1//EN
TZID:Europe/Amsterdam
X-WR-TIMEZONE:Europe/Amsterdam
BEGIN:VEVENT
UID:35124@agenda-zaanstreek.nl
DTSTART;TZID=Europe/Amsterdam:20241106T150000
DTEND;TZID=Europe/Amsterdam:20241106T173000
DTSTAMP:20241003T102428Z
URL:https://agenda-zaanstreek.nl/events/de-bieb-van-de-toekomst-minecraftw
 orkshop-bouw-de-bieb-van-de-toekomst/
SUMMARY:De Bieb van de toekomst - Minecraftworkshop ‘Bouw De Bieb van de 
 toekomst’
DESCRIPTION:\n\n\n\n\n\n\nSpeel jij graag met Minecraft? En wil je de bibli
 otheek van morgen helpen bouwen? Geef je dan op voor de Minecraftworkshop 
 ‘Bouw De Bieb van de toekomst’ bij ons in de bibliotheek.\n\nWist je d
 at De Bieb voor de Zaanstreek al heel lang bestaat? En dat de eerste openb
 are bibliotheek van Nederland al in 1899 opgericht werd? Bibliotheken zijn
  sinds die tijd enorm veranderd. Je kunt er nog steeds boeken lenen\, maar
  je kunt tegenwoordig zoveel meer! En wie weet wat er in de toekomst gaat 
 gebeuren... Laat dus je creativiteit de vrije loop en ontwerp je eigen bib
 liotheek van de toekomst!\n\nDe Bieb voor de Zaanstreek organiseert voor k
 inderen van 9 tot en met 14 jaar de Minecraftworkshop ‘Bouw De Bieb van 
 de toekomst’. Je bouwt in duo’s op een laptop of iPad je eigen toekoms
 tige bibliotheek. Vliegende boekenkasten\, ondergrondse game-grotten of be
 toverde boeken: gebruik je fantasie en maak het zo gek als je zelf wilt! N
 a afloop kun je elkaar en je (groot)ouders je mooie bouwwerk laten zien.\n
 \nDe workshop vindt twee keer plaats: op 6 november in Krommenie\, en op 2
 0 november in Zaandam. Let op: De workshops zijn alleen bedoeld voor kinde
 ren die al eens eerder Minecraft gespeeld hebben. De workshops hebben een 
 maximum van 16 deelnemers\, dus geef je snel op via DeBieb.nl!\n\n\n\n
CATEGORIES:Jeugd
LOCATION:De Bieb Krommenie\, Heiligeweg 170\, Krommenie\, 1561 DM\, Nederla
 nd
X-APPLE-STRUCTURED-LOCATION;VALUE=URI;X-ADDRESS=Heiligeweg 170\, Krommenie\
 , 1561 DM\, Nederland;X-APPLE-RADIUS=100;X-TITLE=De Bieb Krommenie:geo:0,0
END:VEVENT
BEGIN:VTIMEZONE
TZID:Europe/Amsterdam
X-LIC-LOCATION:Europe/Amsterdam
BEGIN:STANDARD
DTSTART:20241027T020000
TZOFFSETFROM:+0200
TZOFFSETTO:+0100
TZNAME:CET
END:STANDARD
END:VTIMEZONE
END:VCALENDAR