BEGIN:VCALENDAR
VERSION:2.0
PRODID:-//wp-events-plugin.com//7.2.3.1//EN
TZID:Europe/Amsterdam
X-WR-TIMEZONE:Europe/Amsterdam
BEGIN:VEVENT
UID:40576@agenda-zaanstreek.nl
DTSTART;TZID=Europe/Amsterdam:20251111T100000
DTEND;TZID=Europe/Amsterdam:20251111T120000
DTSTAMP:20251106T100410Z
URL:https://agenda-zaanstreek.nl/events/de-bieb-digitaal-in-de-vuister/
SUMMARY:De Bieb Digitaal in De Vuister
DESCRIPTION:Elke 2e dinsdag van de maand ben je welkom bij het gratis inloo
 pspreekuur van het Informatiepunt van De Bieb. Onze medewerkers staan klaa
 r om je verder te helpen met vragen over onder andere:\n\n 	E-books\, tabl
 ets en telefoons\;\n 	Websites voor zorg\;\n 	Rijbewijs verlengen\;\n 	Dig
 i-D aanvragen en gebruiken\;\n 	Websites van de overheid en gemeente\;\n 	
 andere digitale zaken\n\n\n\n\nDag/Tijd\niedere 2e dinsdag van de maand va
 n 10.00-12.00 uur\n\n\nKosten\ngeen\n\n\nAanmelden\nniet nodig\n\n\nLocati
 e\nontmoetingsruimte\n\n\nEerste keer\n9 september 2025\n\n\nOrganisatie\n
 De Bieb voor de Zaanstreek\n\n\nContact\n075-6172252&nbsp\;(kies optie 2 I
 nformatiepunt)\n\n\nInschrijven\nvrij inloopspreekuur\n\n\n
CATEGORIES:Sociaal
LOCATION:Buurthuis De Vuister\, Molenwerf 158\, Koog aan de Zaan\, 1541 WR\
 , Nederland
X-APPLE-STRUCTURED-LOCATION;VALUE=URI;X-ADDRESS=Molenwerf 158\, Koog aan de
  Zaan\, 1541 WR\, Nederland;X-APPLE-RADIUS=100;X-TITLE=Buurthuis De Vuiste
 r:geo:0,0
END:VEVENT
BEGIN:VTIMEZONE
TZID:Europe/Amsterdam
X-LIC-LOCATION:Europe/Amsterdam
BEGIN:STANDARD
DTSTART:20251026T020000
TZOFFSETFROM:+0200
TZOFFSETTO:+0100
TZNAME:CET
END:STANDARD
END:VTIMEZONE
END:VCALENDAR