BEGIN:VCALENDAR
VERSION:2.0
PRODID:-//wp-events-plugin.com//7.2.3.1//EN
TZID:Europe/Amsterdam
X-WR-TIMEZONE:Europe/Amsterdam
BEGIN:VEVENT
UID:35351@agenda-zaanstreek.nl
DTSTART;TZID=Europe/Amsterdam:20241103T140000
DTEND;TZID=Europe/Amsterdam:20241103T170000
DTSTAMP:20241017T104003Z
URL:https://agenda-zaanstreek.nl/events/danscafe-ginger-3/
SUMMARY:Danscafe Ginger
DESCRIPTION:03-11-2024 14:00 - 03-11-2024 17:00\n\n\n\nZin in gezelligheid 
 en lekker bewegen? Kom stijldansen in de Dans Hotspot! Danscafe Ginger is 
 de perfecte plek om te genieten van geweldige muziek en een gezellige sfee
 r. Of je nu een ervaren danser bent of gewoon op zoek bent naar een leuke 
 tijd\, dit evenement is voor iedereen. Dus trek je dansschoenen aan en ber
 eid je voor op een onvergetelijke middag vol dans en plezier!\n\nKom je zo
 nder danspartner? Laat het ons weten\, via DanceMatch is er vermoedelijk w
 el een danspartner te vinden.\n\nJe danst op een houten wedstrijdvloer\, b
 reng je dansschoenen mee of schone\, droge schoenen die je wisselt. Roalye
  vloer (18 x 22 m)\, goede dj\, gratis parkeren\, prettige temperatuur doo
 r adequate luchtverversing.&nbsp\;\n\n\n
CATEGORIES:Dans
LOCATION:Dans Hotspot Van Kooten\, Westzijde 71\, Zaandam\, 1506 EC\, Neder
 land
X-APPLE-STRUCTURED-LOCATION;VALUE=URI;X-ADDRESS=Westzijde 71\, Zaandam\, 15
 06 EC\, Nederland;X-APPLE-RADIUS=100;X-TITLE=Dans Hotspot Van Kooten:geo:0
 ,0
END:VEVENT
BEGIN:VTIMEZONE
TZID:Europe/Amsterdam
X-LIC-LOCATION:Europe/Amsterdam
BEGIN:STANDARD
DTSTART:20241027T020000
TZOFFSETFROM:+0200
TZOFFSETTO:+0100
TZNAME:CET
END:STANDARD
END:VTIMEZONE
END:VCALENDAR