BEGIN:VCALENDAR
VERSION:2.0
PRODID:-//wp-events-plugin.com//7.2.3.1//EN
TZID:Europe/Amsterdam
X-WR-TIMEZONE:Europe/Amsterdam
BEGIN:VEVENT
UID:37874@agenda-zaanstreek.nl
DTSTART;TZID=Europe/Amsterdam:20250412T200000
DTEND;TZID=Europe/Amsterdam:20250412T200000
DTSTAMP:20250320T154728Z
URL:https://agenda-zaanstreek.nl/events/dans-hotspots-swing-night-3/
SUMMARY:Dans Hotspot's Swing Night
DESCRIPTION:\n\n\n\n\n\n\nDans Hotspot's Swing Night!\n\n\nDJ Swinging Rock
 in Daddy draait op 12 april weer zijn old time favourites in de Dans Hotsp
 ot! Een lekkere mix van Rock &amp\; Roll\, Swing en Boogie Woogie\, reken 
 maar dat je niet kunt blijven zitten\;-)\nTIP: Koop je ticket voordelig in
  de voorverkoop\, de earlybird tickets zijn verkrijgbaar tot 23 maart.\n\n
 \nDans Hotspot\, Westzijde 71 Zaandam\n\n\n[info@danshotspot.com](mailto:i
 nfo@danshotspot.com)| 06 55 79 13 05\n\n\ntickets: [https://dans-hotspot-b
 v.fairtix.io/.../2025-04-12-dans...](https://dans-hotspot-bv.fairtix.io/..
 ./2025-04-12-dans...)\n&nbsp\;\n\n\n\n\n\n\n\n\n\n\n\n\n&nbsp\;\n\n\n\n\n\
 n\n\nza\, 12 apr. om 20:00\n&nbsp\;\n\n&nbsp\;\n\n\n\n\n\n\n\n\n\n\n\n\n\n
 \n\n\n\n\n&nbsp\;\n\n\n\n\n&nbsp\;\n\n\n\n\n\n\n\n\n\n
CATEGORIES:Dans
LOCATION:Dans Hotspot Van Kooten\, Westzijde 71\, Zaandam\, 1506 EC\, Neder
 land
X-APPLE-STRUCTURED-LOCATION;VALUE=URI;X-ADDRESS=Westzijde 71\, Zaandam\, 15
 06 EC\, Nederland;X-APPLE-RADIUS=100;X-TITLE=Dans Hotspot Van Kooten:geo:0
 ,0
END:VEVENT
BEGIN:VTIMEZONE
TZID:Europe/Amsterdam
X-LIC-LOCATION:Europe/Amsterdam
BEGIN:DAYLIGHT
DTSTART:20250330T030000
TZOFFSETFROM:+0100
TZOFFSETTO:+0200
TZNAME:CEST
END:DAYLIGHT
END:VTIMEZONE
END:VCALENDAR