BEGIN:VCALENDAR
VERSION:2.0
PRODID:-//wp-events-plugin.com//7.2.3.1//EN
TZID:Europe/Amsterdam
X-WR-TIMEZONE:Europe/Amsterdam
BEGIN:VEVENT
UID:37319@agenda-zaanstreek.nl
DTSTART;TZID=Europe/Amsterdam:20250312T193000
DTEND;TZID=Europe/Amsterdam:20250312T213000
DTSTAMP:20250213T090453Z
URL:https://agenda-zaanstreek.nl/events/d66-zaanstreek-organiseert-een-cur
 sus-politiek-actief-worden/
SUMMARY:D66 Zaanstreek organiseert een cursus Politiek Actief Worden
DESCRIPTION:Op woensdag 12 maart start in Zaanstad de cursus Politiek Actie
 f Worden. De cursus is bedoeld voor iedereen in de Zaanstreek die meer wil
  weten over de lokale politiek en het gedachtegoed van D66. Ook is de curs
 us zeer geschikt voor iedereen die misschien interesse heeft om politiek a
 ctief te worden\, maar nog niet precies weet wat de mogelijkheden zijn. \n
 \nWat doet de gemeente? Welke plek heeft de gemeente in het bestuur van Ne
 derland? Hoe werkt de besluitvorming binnen de gemeente? Wat doet een raad
 slid? Op deze vragen – en meer! – krijgen deelnemers aan de cursus ant
 woord. Ook is er een training debatteren en zijn er ontmoetingen met polit
 ici uit de gemeente. Zo krijgen deelnemers ervaring uit de praktijk mee en
  trainen ze nuttige vaardigheden. De deelnemers bezoeken een vergadering v
 an de gemeenteraad in Zaanstad.\n\nProgramma\nDe cursus bestaat uit 5 bije
 enkomsten die op wisselende locatie in de Zaanstreek en wisselende avonden
  in de week worden gehouden.&nbsp\;\n\nBijeenkomst 1: woensdag 12 maart - 
 introductie en kennismaking (Wormerveer)\nBijeenkomst 2: donderdag 27 maar
 t - de instrumenten van een volksvertegenwoordiger (Zaandam)\nBijeenkomst 
 3: donderdag 10 april - actief worden als (D66) volksvertegenwoordiger (Wo
 rmer)\nBijeenkomst 4: dinsdag 15 april - onderhandelen\, debat en communic
 atie (Wormerveer)\nBijeenkomst 5: woensdag 7 mei - het vertalen van het D6
 6-gedachtegoed naar politieke instrumenten (Oostzaan)\n\nRuben Lowenstein\
 , voorzitter D66 Zaanstreek: "Als het betrouwbare alternatief bouwen wij g
 raag mee aan het politieke bewustzijn in de streek. Deze cursus is een fan
 tastisch puzzelstukje dat bijdraagt aan dit doel."\n\nEen groep diverse sp
 rekers met veel D66-ervaring zal de interactieve avonden vullen.\nVoormali
 g Gedeputeerde Ilse Zaal is inhoudelijk verantwoordelijk\, de organisatie 
 doet bestuurslid Marijke Krabbenbos.\n\nMeer informatie\nDe cursus staat o
 pen voor leden en geïnteresseerden van D66 in de hele Zaanstreek\, dus oo
 k uit Wormerland en Oostzaan.\n\nDe cursus wordt verzorgd door diverse spr
 ekers van D66\, lokaal\, regionaal en landelijk. De cursus is mede mogelij
 k gemaakt door ProDemos – Huis voor democratie en rechtsstaat.\n\nDe avo
 nden beginnen om 19.30 uur en duren tot 21.30 uur. De avond op 27 maart be
 gint om 18.00 uur i.v.m. de raadsvergadering die om 19.00 uur begint.\n\nD
 e cursus is gratis. &nbsp\;\n\nOpgeven kan via de website van D66 Zaanstad
 \, https://d66.nl/zaanstad/
CATEGORIES:Cursus Workshop
LOCATION:Zaanstreek\, Diverse locaties\, Zaanstreek\, Nederland
X-APPLE-STRUCTURED-LOCATION;VALUE=URI;X-ADDRESS=Diverse locaties\, Zaanstre
 ek\, Nederland;X-APPLE-RADIUS=100;X-TITLE=Zaanstreek:geo:0,0
END:VEVENT
BEGIN:VTIMEZONE
TZID:Europe/Amsterdam
X-LIC-LOCATION:Europe/Amsterdam
BEGIN:STANDARD
DTSTART:20241027T020000
TZOFFSETFROM:+0200
TZOFFSETTO:+0100
TZNAME:CET
END:STANDARD
END:VTIMEZONE
END:VCALENDAR