BEGIN:VCALENDAR
VERSION:2.0
PRODID:-//wp-events-plugin.com//7.2.3.1//EN
TZID:Europe/Amsterdam
X-WR-TIMEZONE:Europe/Amsterdam
BEGIN:VEVENT
UID:38580@agenda-zaanstreek.nl
DTSTART;TZID=Europe/Amsterdam:20250514T200000
DTEND;TZID=Europe/Amsterdam:20250514T200000
DTSTAMP:20250508T074426Z
URL:https://agenda-zaanstreek.nl/events/cyrano-een-muzikale-komedie-scherp
 -als-een-sabel/
SUMMARY:Cyrano - Een muzikale komedie\, scherp als een sabel!
DESCRIPTION:\n\n\n 	Theater &amp\; Toneel\n\n\n\n\nJeroen Spitzenberger spe
 elt Cyrano. Het iconische liefdesverhaal van Cyrano de Bergerac is een tra
 gikomische klassieker\, nu in een gloednieuwe bewerking vol fonkelende po
 ëzie en met livemuziek.\n\n\n\n\n\n\nWat krijg je als je een briljante di
 chter met een groot hart en een nog grotere neus\, een onweerstaanbare vro
 uw en een knappe man zonder woorden bij elkaar zet?\n\nPrecies: een specta
 culair\, hilarisch muziektheateravontuur vol passie\, humor en meeslepende
  muziek!\n\nIn deze adembenemende\, grootschalige bewerking door Jibbe Wil
 lems\, met een 10-koppige topcast van acteurs en muzikanten\, krijgt het k
 lassieke verhaal van Cyrano de Bergerac een frisse\, sprankelende twist. N
 iemand minder dan Jeroen Spitzenberger – een van Nederlands meest gelief
 de acteurs – speelt de rol van zijn leven als de scherpzinnige\, grootmo
 edige Cyrano.\n\nBereid je voor op vlijmscherpe dialogen\, ontroerende lie
 fdesverklaringen en scènes waarop je niets anders kunt dan keihard lachen
 . Met spectaculaire gevechtschoreografieën\, eigenzinnige kostuums en een
  indrukwekkend decor wordt&nbsp\;Cyrano&nbsp\;een feest voor oog\, oor en 
 hart.\n\nCyrano&nbsp\;is een tragikomedie over verlangen\, zelfbeeld en de
  moed om lief te hebben. De stuntelige charme van Christian\, de onweersta
 anbare kracht van Roxanne en de poëtische genialiteit van Cyrano komen to
 t leven in een betoverend muziektheaterspektakel waarin taal en muziek sam
 ensmelten. Deze niet-te-missen&nbsp\;Cyrano&nbsp\;belooft een tijdloos ver
 haal met een moderne ziel!\n\n“Cyrano is mijn droomrol. Een tragikomisch
 e strijd over gezien en gehoord worden in de liefde. Met taal en verbeeldi
 ng als wapen en voor de zekerheid het zwaard achter de hand.”&nbsp\;- Je
 roen Spitzenberger\n\n\nLees meer\n\n\n\n\nPrijzen\n\n\n\n\n\nExtra inform
 atie:\n\n\n\n\n\nwo14 mei 202520.00Albert HeijnzaalBestel\n\n
CATEGORIES:Theater,Toneel
LOCATION:Zaantheater\, Nicolaasstraat 3\, Zaandam\, 1506 BB\, Nederland
X-APPLE-STRUCTURED-LOCATION;VALUE=URI;X-ADDRESS=Nicolaasstraat 3\, Zaandam\
 , 1506 BB\, Nederland;X-APPLE-RADIUS=100;X-TITLE=Zaantheater:geo:0,0
END:VEVENT
BEGIN:VTIMEZONE
TZID:Europe/Amsterdam
X-LIC-LOCATION:Europe/Amsterdam
BEGIN:DAYLIGHT
DTSTART:20250330T030000
TZOFFSETFROM:+0100
TZOFFSETTO:+0200
TZNAME:CEST
END:DAYLIGHT
END:VTIMEZONE
END:VCALENDAR