BEGIN:VCALENDAR
VERSION:2.0
PRODID:-//wp-events-plugin.com//7.2.3.1//EN
TZID:Europe/Amsterdam
X-WR-TIMEZONE:Europe/Amsterdam
BEGIN:VEVENT
UID:37099@agenda-zaanstreek.nl
DTSTART;TZID=Europe/Amsterdam:20250206T143000
DTEND;TZID=Europe/Amsterdam:20250206T163000
DTSTAMP:20250130T111843Z
URL:https://agenda-zaanstreek.nl/events/cursus-bloemschikken/
SUMMARY:Cursus Bloemschikken
DESCRIPTION:\n\nBloemschikken 2024-2025\n\n\n\n\nUpdate: op de donderdagmid
 dag zijn nog een paar plaatsen vrij!\n\nBegin 2025 kun je nog vijf&nbsp\; 
 bloemschiklessen volgen Je leert op een moderne manier bloemschikken en we
 rkt met je eigen materialen. Je krijgt ook tips welke materialen je uit je
  eigen tuin kunt gebruiken. We werken vooral met bloemen van het seizoen. 
 Het is heel leuk om te zien dat iedereen dan toch een eigen invulling aan 
 dezelfde opdracht kan geven.&nbsp\;\n\nTijdstip: 14.30 - 16.30 uur\,\n\nLo
 catie: Zaans Natuur en Milieu Centrum\, Thijssestraat 1 in Zaandam.\n\nKos
 ten: € 40\,- voor leden\, € 45\,- voor niet leden incl. koffie.\n\nDat
 a:&nbsp\;woensdagmiddag&nbsp\;22-1\, 5-2\, 19-2\, 12-3 en 26-3 &nbsp\; of&
 nbsp\;donderdagmiddag&nbsp\;23-1\, 6-2\, 20-2\, 13-3 en 27-3.\n\nOpgeven e
 n meer info bij Bertine Loor: telefoon 0299 416020 of&nbsp\;be.loor(at)liv
 e.nl\n\n\n
CATEGORIES:Cursus Workshop
LOCATION:Natuurmuseum Zirkel voorheen E. Heimans\, Twiskeweg 90\, Zaandam\,
  1504 LB\, Nederland
X-APPLE-STRUCTURED-LOCATION;VALUE=URI;X-ADDRESS=Twiskeweg 90\, Zaandam\, 15
 04 LB\, Nederland;X-APPLE-RADIUS=100;X-TITLE=Natuurmuseum Zirkel voorheen 
 E. Heimans:geo:0,0
END:VEVENT
BEGIN:VTIMEZONE
TZID:Europe/Amsterdam
X-LIC-LOCATION:Europe/Amsterdam
BEGIN:STANDARD
DTSTART:20241027T020000
TZOFFSETFROM:+0200
TZOFFSETTO:+0100
TZNAME:CET
END:STANDARD
END:VTIMEZONE
END:VCALENDAR