BEGIN:VCALENDAR
VERSION:2.0
PRODID:-//wp-events-plugin.com//7.2.3.1//EN
TZID:Europe/Amsterdam
X-WR-TIMEZONE:Europe/Amsterdam
BEGIN:VEVENT
UID:36527@agenda-zaanstreek.nl
DTSTART;TZID=Europe/Amsterdam:20250125T200000
DTEND;TZID=Europe/Amsterdam:20250125T200000
DTSTAMP:20241219T200100Z
URL:https://agenda-zaanstreek.nl/events/culturele-raad-presenteert-stine-j
 ensen/
SUMMARY:Culturele Raad presenteert Stine Jensen
DESCRIPTION:\n\n\n\n\n\n\n\n\n\n\n\n\n\n\n\n\n\n\n\n\n\n\n\n\nZaterdag 25 j
 anuari is Stine Jensen te gast bij de Culturele Raad Zaanstad.\n\nStine Je
 nsen\nStine is filosoof\, schrijver en programmamaker. Zij is bijzonder ho
 ogleraar Publieksfilosofie aan de Erasmus-universiteit Rotterdam en NRC-co
 lumniste. Onlangs was ze nog te zien op tv als duider van de actualiteit v
 an Koot &amp\; Bie. Met haar onderbouwde kijk\, open houding en warme stem
  weet ze iedereen te boeien.\n\nComedian Victor Luis van Es\nVictor won de
  Publieksprijs van het&nbsp\;Amsterdams Studenten Cabaret Festival\, haald
 e de finale van het prestigieuze&nbsp\;Cameretten en stond op&nbsp\;Lowlan
 ds. Met zijn innemende persoonlijkheid neemt hij je mee in zijn grappige o
 bservaties en anekdotes.\n\nJong Zaans talent\nWe bieden ook ruimte aan jo
 ng talent: Sanne Zeik is een splinternieuw kleinkunstduo bestaande uit Jan
 ine Sicking en Mees Brusche. Ze zijn dan wellicht nog erg jong\, hun drome
 n en meningen zijn groot. De Zaanse muzikanten bezingen alles wat hun dwar
 szit in de hedendaagse maatschappij\, en zijn daarbij altijd op zoek naar 
 de humor.\n\nKortom: het belooft weer een bijzondere avond te worden bij d
 e Culturele Raad!\n\nTickets: € 17\,50 (+ € 1\,00 reserveringskosten)\
 n\nDeuren open: 19.30 uur\nAanvang: 20.00 uur\n\n\n\n\n\n\n\n\n\n\n\nKoop 
 tickets\n\n\n\n\n\n\n&nbsp\;\n\n\n\n\n\n\n\n\n\n&nbsp\;\n\n\n\n\n\n\n\n\n
CATEGORIES:Theatercolleges &amp; Salons
LOCATION:Cultureel Centrum Bullekerk (Westzijderkerk)\, Westzijde 75\, Zaan
 dam\, 1506 ED\, Nederland
X-APPLE-STRUCTURED-LOCATION;VALUE=URI;X-ADDRESS=Westzijde 75\, Zaandam\, 15
 06 ED\, Nederland;X-APPLE-RADIUS=100;X-TITLE=Cultureel Centrum Bullekerk (
 Westzijderkerk):geo:0,0
END:VEVENT
BEGIN:VTIMEZONE
TZID:Europe/Amsterdam
X-LIC-LOCATION:Europe/Amsterdam
BEGIN:STANDARD
DTSTART:20241027T020000
TZOFFSETFROM:+0200
TZOFFSETTO:+0100
TZNAME:CET
END:STANDARD
END:VTIMEZONE
END:VCALENDAR