BEGIN:VCALENDAR
VERSION:2.0
PRODID:-//wp-events-plugin.com//7.2.3.1//EN
TZID:Europe/Amsterdam
X-WR-TIMEZONE:Europe/Amsterdam
BEGIN:VEVENT
UID:37875@agenda-zaanstreek.nl
DTSTART;TZID=Europe/Amsterdam:20250322T203000
DTEND;TZID=Europe/Amsterdam:20250322T203000
DTSTAMP:20250320T154903Z
URL:https://agenda-zaanstreek.nl/events/coverband-jones-bros/
SUMMARY:Coverband Jones & Bros
DESCRIPTION:\n\n\n\n\n\n\nJones &amp\; Bros\, zaterdag 22 maart in Eetcafé
  Sman Wormerveer ! Met lekkere muziek van o.a. De Dijk\, the Rolling Stone
 s\, John Mayer en vele anderen\n&nbsp\;\n\n\n\n\n\n\n\n\n\n\n\n\n\n\n\n&nb
 sp\;\n&nbsp\;\n\n&nbsp\;\n\n\n\n\n\n\n\n\n\n\n\n&nbsp\;\n\n\n\n\n\n\n\n\n
CATEGORIES:Horeca,Muziek
LOCATION:Café Sman\,  Zaanweg 2\,\, Wormerveer\, 1521 DH\, Nederland
X-APPLE-STRUCTURED-LOCATION;VALUE=URI;X-ADDRESS= Zaanweg 2\,\, Wormerveer\,
  1521 DH\, Nederland;X-APPLE-RADIUS=100;X-TITLE=Café Sman:geo:0,0
END:VEVENT
BEGIN:VTIMEZONE
TZID:Europe/Amsterdam
X-LIC-LOCATION:Europe/Amsterdam
BEGIN:STANDARD
DTSTART:20241027T020000
TZOFFSETFROM:+0200
TZOFFSETTO:+0100
TZNAME:CET
END:STANDARD
END:VTIMEZONE
END:VCALENDAR