BEGIN:VCALENDAR
VERSION:2.0
PRODID:-//wp-events-plugin.com//7.2.3.1//EN
TZID:Europe/Amsterdam
X-WR-TIMEZONE:Europe/Amsterdam
BEGIN:VEVENT
UID:36948@agenda-zaanstreek.nl
DTSTART;TZID=Europe/Amsterdam:20250202T160000
DTEND;TZID=Europe/Amsterdam:20250202T160000
DTSTAMP:20250121T103006Z
URL:https://agenda-zaanstreek.nl/events/country-k-country-jukebox-in-het-p
 and/
SUMMARY:Country K: Country Jukebox in het Pand
DESCRIPTION:\n\nDe Zaanse band Country K is zondagmiddag 2 februari opnieuw
  een levende ‘Country Jukebox’ in café het Pand aan de Zuiddijk in Za
 andam.\n\nVoor € 1 per nummer speelt Country K country-klassiekers van H
 ank Williams\, Dolly Parton\, Emmylou Harris\, Buck Owens\, Tammy Wynette\
 , Wanda Jackson\, Willie Nelson\, Jim Reeves en Johnny Cash. Naast ‘klas
 sieke’ country doet ‘K’ uitstapjes naar pop- en rock-klassiekers die
  in een country-jasje worden gehesen\, zo kunnen er zomaar songs van The M
 onkees\, Beyoncé\, Janis Joplin\, Prince\, Olivia Newton John\, the Beatl
 es\, Nancy Sinatra\, Bob Dylan\, Chuck Berry\, Buddy Holly of Danny Vera l
 angskomen. Je kan kiezen uit 40 nummers.\n\nCountry K. bestaat uit Karin P
 eeters (zang)\, Piet Bakker (gitaar)\, Arthur Doets (basgitaar)\, Rob Hend
 riks (drums) en Hans Wesseling (mandoline\, ukelele\, banjo\, mondharmonic
 a).\n\nHet optreden is zondag 2 februari in café het Pand\, Zuiddijk 7\, 
 Zaandam. Aanvang 16.00 uur. Toegang gratis.&nbsp\;\n\nhttps://www.facebook
 .com/CountryKzaandam
CATEGORIES:Horeca,Muziek
LOCATION:Café Het Pand\, Zuiddijk 7\, Zaandam\, 1501 CA\, Nederland
X-APPLE-STRUCTURED-LOCATION;VALUE=URI;X-ADDRESS=Zuiddijk 7\, Zaandam\, 1501
  CA\, Nederland;X-APPLE-RADIUS=100;X-TITLE=Café Het Pand:geo:0,0
END:VEVENT
BEGIN:VTIMEZONE
TZID:Europe/Amsterdam
X-LIC-LOCATION:Europe/Amsterdam
BEGIN:STANDARD
DTSTART:20241027T020000
TZOFFSETFROM:+0200
TZOFFSETTO:+0100
TZNAME:CET
END:STANDARD
END:VTIMEZONE
END:VCALENDAR