BEGIN:VCALENDAR
VERSION:2.0
PRODID:-//wp-events-plugin.com//7.2.3.1//EN
TZID:Europe/Amsterdam
X-WR-TIMEZONE:Europe/Amsterdam
BEGIN:VEVENT
UID:37757@agenda-zaanstreek.nl
DTSTART;TZID=Europe/Amsterdam:20250316T000000
DTEND;TZID=Europe/Amsterdam:20250316T000000
DTSTAMP:20250313T105001Z
URL:https://agenda-zaanstreek.nl/events/connie-de-jongh-sopraan-en-kelvin-
 grout-piano-music-for-a-while/
SUMMARY:Connie de Jongh (sopraan) en Kelvin Grout (piano) - Music for a 
 while
DESCRIPTION:\n\n\n\nConnie de Jongh&nbsp\;(sopraan) en&nbsp\;Kelvin Grout&n
 bsp\;(piano)\n\n\n\n\n\n\n\nMusic for a while\n\n\nProgramma\n\nIf music b
 e the food of love – H.Purcell\nMusic for a while\n\nScarbourough Fair 
 – Traditional\nSally Gardens\n\nDream Valley – R. Quilter\nThe Cloths 
 of Heaven – Dilys Edwards\n\nGoodnight to Flamboro – William Baines\n(
 piano solo)\n\nTrade Winds – F.Keel\nCome ready and see me – R.Hundly\
 nDid you ever cross over to Snedens – A. Wilder\nTake care of my house 
 – L.Bernstein\n\nPrelude No. 15 Op 28 (Raindrop) – F. Chopin\n(Piano s
 olo)\n\nThere are fairies at the bottom of my garden – Liza Lehman\nSome
 one is sending me Flowers – David Barker\n\n\n\n\n\n
CATEGORIES:Klassiek,Muziek
LOCATION:Kooger Vermaning\, Lagedijk 34\, Koog aan de Zaan\, 1541 KC\, Nede
 rland
X-APPLE-STRUCTURED-LOCATION;VALUE=URI;X-ADDRESS=Lagedijk 34\, Koog aan de Z
 aan\, 1541 KC\, Nederland;X-APPLE-RADIUS=100;X-TITLE=Kooger Vermaning:geo:
 0,0
END:VEVENT
BEGIN:VTIMEZONE
TZID:Europe/Amsterdam
X-LIC-LOCATION:Europe/Amsterdam
BEGIN:STANDARD
DTSTART:20241027T020000
TZOFFSETFROM:+0200
TZOFFSETTO:+0100
TZNAME:CET
END:STANDARD
END:VTIMEZONE
END:VCALENDAR