BEGIN:VCALENDAR
VERSION:2.0
PRODID:-//wp-events-plugin.com//7.2.3.1//EN
TZID:Europe/Amsterdam
X-WR-TIMEZONE:Europe/Amsterdam
BEGIN:VEVENT
UID:40756@agenda-zaanstreek.nl
DTSTART;TZID=Europe/Amsterdam:20251128T190000
DTEND;TZID=Europe/Amsterdam:20251128T210000
DTSTAMP:20251127T103811Z
URL:https://agenda-zaanstreek.nl/events/connecting-love-single-night/
SUMMARY:Connecting Love - Single Night
DESCRIPTION:\n\n\nBen jij op zoek naar de juiste partnermatch? Tijdens deze
  slowdate avond krijg je verschillende matches aan tafel\, inclusief één
  hapje en één drankje. We willen de juiste match voor je vinden\, daarom
  krijg je een formulier toegemaild om je beter te leren kennen.\n\nTijd: 1
 9:00 tot 21:00 uur\nLocatie: Lokaal de Kroon |&nbsp\;Marktstraat 11\, 1521
  DW Wormerveer\nPrijs: €27\,50 p.p.\n\n\n\nAANMELDEN
CATEGORIES:Horeca,Sociaal
LOCATION:Lokaal De Kroon\, Marktstraat 11\, Wormerveer\, 1521 DW\, Nederlan
 d
X-APPLE-STRUCTURED-LOCATION;VALUE=URI;X-ADDRESS=Marktstraat 11\, Wormerveer
 \, 1521 DW\, Nederland;X-APPLE-RADIUS=100;X-TITLE=Lokaal De Kroon:geo:0,0
END:VEVENT
BEGIN:VTIMEZONE
TZID:Europe/Amsterdam
X-LIC-LOCATION:Europe/Amsterdam
BEGIN:STANDARD
DTSTART:20251026T020000
TZOFFSETFROM:+0200
TZOFFSETTO:+0100
TZNAME:CET
END:STANDARD
END:VTIMEZONE
END:VCALENDAR