BEGIN:VCALENDAR
VERSION:2.0
PRODID:-//wp-events-plugin.com//7.2.3.1//EN
TZID:Europe/Amsterdam
X-WR-TIMEZONE:Europe/Amsterdam
BEGIN:VEVENT
UID:35799@agenda-zaanstreek.nl
DTSTART;TZID=Europe/Amsterdam:20241124T140000
DTEND;TZID=Europe/Amsterdam:20241124T140000
DTSTAMP:20241114T085551Z
URL:https://agenda-zaanstreek.nl/events/concert-door-saens-strijktrio/
SUMMARY:Concert door Saens Strijktrio
DESCRIPTION:Het Saens Strijktrio\, bestaande uit Julia Barnes\, Joep van Be
 ijnum en Mariëtte Gort\, geeft zondag 24 november een concert in het gebo
 uw van de Apostolische Gemeenschap\, Oostzijde 82.&nbsp\;\nZij spelen onde
 r meer werken van Schubert\, trio Setz\, en van Mozart het Divertimento in
  Es gr. Tevens is er een expositie met werken van Lizet Heijboer op zaterd
 ag 23 november van 14.00 tot 16.00 uur en op zondag 24 november voor en na
  het concert. Het concert wordt gegeven in kader van Culturale. Toegang gr
 atis. Inloop om 13.30 uur met gratis koffie- thee en na afloop een drankje
 . Een vrijwillige bijdrage voor de musici is meer dan welkom. Zie ook&nbsp
 \;\nwww.culturale.nl
CATEGORIES:Klassiek,Muziek
LOCATION:Apostolisch Genootschap\, Oostzijde 82\, Zaandam\, 1502 BJ\, Neder
 land
X-APPLE-STRUCTURED-LOCATION;VALUE=URI;X-ADDRESS=Oostzijde 82\, Zaandam\, 15
 02 BJ\, Nederland;X-APPLE-RADIUS=100;X-TITLE=Apostolisch Genootschap:geo:0
 ,0
END:VEVENT
BEGIN:VTIMEZONE
TZID:Europe/Amsterdam
X-LIC-LOCATION:Europe/Amsterdam
BEGIN:STANDARD
DTSTART:20241027T020000
TZOFFSETFROM:+0200
TZOFFSETTO:+0100
TZNAME:CET
END:STANDARD
END:VTIMEZONE
END:VCALENDAR