BEGIN:VCALENDAR
VERSION:2.0
PRODID:-//wp-events-plugin.com//7.2.3.1//EN
TZID:Europe/Amsterdam
X-WR-TIMEZONE:Europe/Amsterdam
BEGIN:VEVENT
UID:34242@agenda-zaanstreek.nl
DTSTART;TZID=Europe/Amsterdam:20241116T201500
DTEND;TZID=Europe/Amsterdam:20241116T201500
DTSTAMP:20241022T102557Z
URL:https://agenda-zaanstreek.nl/events/concert-bij-kaarslicht-ruysdael-kw
 artet-strijkkwartet/
SUMMARY:Concert bij Kaarslicht\, Top van Nederlandse strijkkwartetten in Ji
 sp
DESCRIPTION:\n\nHet gerenommeerde Ruysdael Kwartet zal op zaterdag 16 novem
 ber een bijzonder concert verzorgen in Jisp. Dit strijkkwartet behoort al 
 25 jaar tot de top van Nederlandse strijkwartetten. De vier strijkers zijn
  Joris van Rijn (viool)\, Emi Ohi Resnick (viool)\, Gijs Kramers (altviool
 ) en Michael Müller.\n\nHet Ruysdael Kwartet is niet alleen een vaste wa
 arde op de Nederlandse podia en radio\, maar treedt ook veelvuldig op in h
 et buitenland. Hun temperamentvolle en sfeerrijke uitvoeringen\, gekenmerk
 t door een grote schoonheid en oog voor detail\, doen denken aan de landsc
 hapsschilderingen van hun naamgever\, Jacob van Ruisdael.\n\nHet Ruysdael 
 Kwartet neemt je graag mee in de geschiedenis van het strijkkwartet met mu
 ziek van Mozart\, Brahms en Bartok.\n\n&nbsp\;Praktische informatie\n\nDe 
 concerten vinden plaats in de sfeervolle Jisperkerk\, bekend om haar uitst
 ekende akoestiek.&nbsp\;Aanvangstijd: 20.15 uur. Toegang € 21 incl. cons
 umpties.&nbsp\;\n\nBekijk de concertagenda op concertjisp.nl.\n\nwww.conce
 rtjisp.nl
CATEGORIES:Klassiek,Muziek
LOCATION:De Jisper Kerk\, Dorpsstraat 46\, Jisp\, 1546 LK\, Nederland
X-APPLE-STRUCTURED-LOCATION;VALUE=URI;X-ADDRESS=Dorpsstraat 46\, Jisp\, 154
 6 LK\, Nederland;X-APPLE-RADIUS=100;X-TITLE=De Jisper Kerk:geo:0,0
END:VEVENT
BEGIN:VTIMEZONE
TZID:Europe/Amsterdam
X-LIC-LOCATION:Europe/Amsterdam
BEGIN:STANDARD
DTSTART:20241027T020000
TZOFFSETFROM:+0200
TZOFFSETTO:+0100
TZNAME:CET
END:STANDARD
END:VTIMEZONE
END:VCALENDAR