BEGIN:VCALENDAR
VERSION:2.0
PRODID:-//wp-events-plugin.com//7.2.3.1//EN
TZID:Europe/Amsterdam
X-WR-TIMEZONE:Europe/Amsterdam
BEGIN:VEVENT
UID:34243@agenda-zaanstreek.nl
DTSTART;TZID=Europe/Amsterdam:20241214T201500
DTEND;TZID=Europe/Amsterdam:20241214T201500
DTSTAMP:20241204T154220Z
URL:https://agenda-zaanstreek.nl/events/concert-bij-kaarslicht-reina-lupa-
 vocaal-monteverdi-programma/
SUMMARY:Concert bij Kaarslicht\, Reïna Lupa\, vocaal Monteverdi programma
DESCRIPTION:\n\nWetenschappelijke revolutie en metamorfose van de muziekwer
 eld\n\nReïna Lupa presenteert 'Monteverdiana': Een muzikale reis door de 
 Barok\n\n&nbsp\;Op zaterdag 14 december brengt het veelzijdige ensemble Re
 ïna Lupa een bijzonder concert getiteld 'Monteverdiana' in de reeks conce
 rten van de Concerten bij Kaarslicht in Jisp. Dit programma belicht de ing
 rijpende veranderingen die de muziekwereld rond 1600 transformeerden\, par
 allel aan de wetenschappelijke revolutie die werd ingeluid door Nicolaus C
 opernicus.\n\nHet concert focust op het werk van de baanbrekende Italiaans
 e componist Claudio Monteverdi\, wiens werken de essentie van de menselijk
 e emotie met een ongekende directheid vastleggen. Reïna Lupa brengt een z
 orgvuldig samengestelde selectie van Monteverdi's mooiste solo's en duette
 n. Deze worden aangevuld met werken van zijn invloedrijke volgelingen\, wa
 aronder Alessandro Grandi en Heinrich Schütz.\n\nReïna Lupa staat bekend
  om hun frisse benadering van historisch repertoire. Door grondig onderzoe
 k en toepassing van de meest actuele uitvoeringspraktijken\, streeft het e
 nsemble ernaar om deze eeuwenoude muziek te presenteren op een manier die 
 zowel historisch authentiek als hedendaags relevant is.\n\nHet concert vin
 dt plaats op zaterdag 14 december. Kaarten zijn nog beschikbaar en kunnen 
 gereserveerd worden via reserveren@concertjisp.nl.\n\n&nbsp\;Praktische in
 formatie\n\nDe concerten vinden plaats in de sfeervolle Jisperkerk\, beken
 d om haar uitstekende akoestiek.&nbsp\;Aanvangstijd: 20.15 uur. Toegang 
 € 21 incl. consumpties.&nbsp\;\n\nBekijk voor meer informatie op: www.co
 ncertjisp.nl\n\n&nbsp\;
CATEGORIES:Klassiek,Muziek
LOCATION:De Jisper Kerk\, Dorpsstraat 46\, Jisp\, 1546 LK\, Nederland
X-APPLE-STRUCTURED-LOCATION;VALUE=URI;X-ADDRESS=Dorpsstraat 46\, Jisp\, 154
 6 LK\, Nederland;X-APPLE-RADIUS=100;X-TITLE=De Jisper Kerk:geo:0,0
END:VEVENT
BEGIN:VTIMEZONE
TZID:Europe/Amsterdam
X-LIC-LOCATION:Europe/Amsterdam
BEGIN:STANDARD
DTSTART:20241027T020000
TZOFFSETFROM:+0200
TZOFFSETTO:+0100
TZNAME:CET
END:STANDARD
END:VTIMEZONE
END:VCALENDAR