BEGIN:VCALENDAR
VERSION:2.0
PRODID:-//wp-events-plugin.com//7.2.3.1//EN
TZID:Europe/Amsterdam
X-WR-TIMEZONE:Europe/Amsterdam
BEGIN:VEVENT
UID:40018@agenda-zaanstreek.nl
DTSTART;TZID=Europe/Amsterdam:20251018T201500
DTEND;TZID=Europe/Amsterdam:20251018T201500
DTSTAMP:20250827T095319Z
URL:https://agenda-zaanstreek.nl/events/concert-bij-kaarslicht-pieter-wisp
 elwey/
SUMMARY:Concert bij kaarslicht - Pieter Wispelwey
DESCRIPTION:\n\nPieter Wispelwey\n\n\nMeester van de cello\n\n\n\nPieter Wi
 spelwey\, een meester van Bachs&nbsp\;Cellosuites\, brengt deze iconische 
 werken met een diepe verbintenis en innovatieve interpretaties. Zijn uitvo
 ering\, geworteld in historische kennis en muzikale vrijheid\, belichaamt 
 de transcendente schoonheid van Bachs meesterwerk.\n\n\n\n\n\n\nZaterdag 1
 8 oktober 2025\n\n\n20:15 – 22:00\n\nVanaf € 15\n\n\n\n\n\nRESERVEREN\
 n\n
CATEGORIES:Klassiek,Muziek
LOCATION:De Jisper Kerk\, Dorpsstraat 46\, Jisp\, 1546 LK\, Nederland
X-APPLE-STRUCTURED-LOCATION;VALUE=URI;X-ADDRESS=Dorpsstraat 46\, Jisp\, 154
 6 LK\, Nederland;X-APPLE-RADIUS=100;X-TITLE=De Jisper Kerk:geo:0,0
END:VEVENT
BEGIN:VTIMEZONE
TZID:Europe/Amsterdam
X-LIC-LOCATION:Europe/Amsterdam
BEGIN:DAYLIGHT
DTSTART:20250330T030000
TZOFFSETFROM:+0100
TZOFFSETTO:+0200
TZNAME:CEST
END:DAYLIGHT
END:VTIMEZONE
END:VCALENDAR