BEGIN:VCALENDAR
VERSION:2.0
PRODID:-//wp-events-plugin.com//7.2.3.1//EN
TZID:Europe/Amsterdam
X-WR-TIMEZONE:Europe/Amsterdam
BEGIN:VEVENT
UID:36775@agenda-zaanstreek.nl
DTSTART;TZID=Europe/Amsterdam:20250222T201500
DTEND;TZID=Europe/Amsterdam:20250222T201500
DTSTAMP:20250114T112120Z
URL:https://agenda-zaanstreek.nl/events/cocoliche-trio-cabernet/
SUMMARY:Cocoliche Trio Cabernet
DESCRIPTION:\n\n\n\n\n\nAanvang : 20:15\nToegang : €15:00\nKaarten :&nbsp
 \;Bestellen tickets\nCOCOLICHE TRIO brengt Afro-Zuid-Amerikaanse ritmes en
  harmonieën van jazz samen in hun debuutalbum ‘CABERNET’.\n\nCOCOLICH
 E TRIO is het cross-culturele project van Argentijnse pianiste\, componist
 e en Batavier&nbsp\;Aleksandra Tonelli\, Chileense drummer en componist Lu
 is Daniel Mora Matus en Italiaanse bassist en componist Giuseppe Bordasco.
  De naam ‘Cocoliche’ is geïnspireerd op een taalkundig fenomeen uit B
 uenos Aires begin 20ste&nbsp\;eeuw\, waar Italiaanse immigranten en Argent
 ijnse inwoners een hybride taal creëerden. Deze culturele fusie is het ve
 rtrekpunt van de muziek van COCOLICHE TRIO\, wat het tot een levendige\, i
 nterculturele reis maakt.\n\nDe verschillende muzikale achtergronden van h
 et trio\, waaronder tango\, jazz en Latijns-Amerikaanse muziek\, ontmoeten
  elkaar in hun debuutalbum ‘CABERNET’ en vormen een eigenzinnig geluid
  dat net zo complex is als de iconische wijn waaraan het zijn naam ontleen
 t. Het album is geïnspireerd op het werk van grootheden als Brad Mehldau\
 , Radiohead\, Mercedes Sosa en Ástor Piazzolla. ‘CABERNET’ is te belu
 isteren op alle&nbsp\;platformen.\n\n
CATEGORIES:Muziek
LOCATION:Zuidervermaning Westzaan\, Zuideinde 233\, Westzaan\, 1551 EG\, Ne
 derland
X-APPLE-STRUCTURED-LOCATION;VALUE=URI;X-ADDRESS=Zuideinde 233\, Westzaan\, 
 1551 EG\, Nederland;X-APPLE-RADIUS=100;X-TITLE=Zuidervermaning Westzaan:ge
 o:0,0
END:VEVENT
BEGIN:VTIMEZONE
TZID:Europe/Amsterdam
X-LIC-LOCATION:Europe/Amsterdam
BEGIN:STANDARD
DTSTART:20241027T020000
TZOFFSETFROM:+0200
TZOFFSETTO:+0100
TZNAME:CET
END:STANDARD
END:VTIMEZONE
END:VCALENDAR