BEGIN:VCALENDAR
VERSION:2.0
PRODID:-//wp-events-plugin.com//7.2.3.1//EN
TZID:Europe/Amsterdam
X-WR-TIMEZONE:Europe/Amsterdam
BEGIN:VEVENT
UID:33910@agenda-zaanstreek.nl
DTSTART;TZID=Europe/Amsterdam:20241212T200000
DTEND;TZID=Europe/Amsterdam:20241214T200000
DTSTAMP:20240723T145727Z
URL:https://agenda-zaanstreek.nl/events/claudia-de-breij-wat-als/
SUMMARY:Claudia de Breij - Wat als
DESCRIPTION:\n\n\n 	Cabaret\n\n\n\n\nNa een noodzakelijke break vorig jaar\
 , is Claudia de Breij terug op het podium! Deze tegenslag inspireerde haar
  wel tot een nieuwe voorstelling. Over aardig zijn en aardig gevonden word
 en. Over overprikkeld zijn of gewoon eindelijk eens jezelf durven zijn. Ov
 er periodieke onthouding\, zielige dictators en over hoe irritant restaura
 ntmuziek is. Ze is in&nbsp\;Wat als&nbsp\;persoonlijker\, eerlijker én gr
 appiger dan ooit.\n\n\n\n\n\nPrijzen\n\n\n\n\n\nExtra informatie:\n\n\n\n\
 n\nDO12 dec 202420.00Albert HeijnzaalBestel\n\n\n\nMeer voorstellingen\n\n
 VR13 dec 202420.00Albert HeijnzaalBestel\nZA14 dec 202420.00Albert Heijnza
 alBestel\n\n\n\n
CATEGORIES:Cabaret
LOCATION:Zaantheater\, Nicolaasstraat 3\, Zaandam\, 1506 BB\, Nederland
X-APPLE-STRUCTURED-LOCATION;VALUE=URI;X-ADDRESS=Nicolaasstraat 3\, Zaandam\
 , 1506 BB\, Nederland;X-APPLE-RADIUS=100;X-TITLE=Zaantheater:geo:0,0
END:VEVENT
BEGIN:VTIMEZONE
TZID:Europe/Amsterdam
X-LIC-LOCATION:Europe/Amsterdam
BEGIN:STANDARD
DTSTART:20241027T020000
TZOFFSETFROM:+0200
TZOFFSETTO:+0100
TZNAME:CET
END:STANDARD
END:VTIMEZONE
END:VCALENDAR