BEGIN:VCALENDAR
VERSION:2.0
PRODID:-//wp-events-plugin.com//7.2.3.1//EN
TZID:Europe/Amsterdam
X-WR-TIMEZONE:Europe/Amsterdam
BEGIN:VEVENT
UID:33868@agenda-zaanstreek.nl
DTSTART;TZID=Europe/Amsterdam:20250118T200000
DTEND;TZID=Europe/Amsterdam:20250118T200000
DTSTAMP:20240718T091439Z
URL:https://agenda-zaanstreek.nl/events/celebrating-amy-tribute-to-amy-win
 ehouse/
SUMMARY:Celebrating Amy – Tribute to Amy Winehouse
DESCRIPTION:\n\n\n\n\n\n\n\n\n\n\n\n\n\n\n\n\n\n\n\n\n\n\n\n\nCelebrating A
 my is dé Nederlandse Amy Winehouse Tribute! Zangeres Denise van Dorst kru
 ipt in de huid van Amy in deze tributeshow over het leven van de legendari
 sche zangeres. In haar veel te korte carrière heeft Amy slechts twee albu
 ms uitgebracht\, maar wel bijna elke song daarop werd een hit. Bekende num
 mers als Rehab\, Valerie\, Back to Black en You know I’m No Good komen d
 an ook allemaal voorbij in deze show.\n\nDenise van Dorst zingt al geruime
  tijd als Amy. Niet alleen haar verschijning maar zeker ook haar stem vert
 onen een grote gelijkenis met die van het Britse icoon\, hetgeen zeker uni
 ek te noemen is. Het bewogen leven van Amy Winehouse heeft weerklank in ha
 ar gehele muzikale repertoire. Denise is in staat zich volledig daarin in 
 te leven en samen met haar band wordt het publiek een show voorgeschoteld 
 die zowel swingend en soulful is\, maar ook intens en emotioneel in de pra
 chtige ballads die Amy gezongen heeft. Een fantastische tribute aan de leg
 endarische zangeres Amy Winehouse!\n\nCelebrating Amy is in 2022 ook al bi
 j ons geweest en komt nu weer terug!\n\nDit is een sta-concert\nTickets: 
 € 24\,00 (+ € 1\,00 reserveringskosten)\nAan de deur € 25\,00\n\n\n\
 n\n\n\n\n\n\n\n\n\n
CATEGORIES:Muziek
LOCATION:Cultureel Centrum Bullekerk (Westzijderkerk)\, Westzijde 75\, Zaan
 dam\, 1506 ED\, Nederland
X-APPLE-STRUCTURED-LOCATION;VALUE=URI;X-ADDRESS=Westzijde 75\, Zaandam\, 15
 06 ED\, Nederland;X-APPLE-RADIUS=100;X-TITLE=Cultureel Centrum Bullekerk (
 Westzijderkerk):geo:0,0
END:VEVENT
BEGIN:VTIMEZONE
TZID:Europe/Amsterdam
X-LIC-LOCATION:Europe/Amsterdam
BEGIN:STANDARD
DTSTART:20241027T020000
TZOFFSETFROM:+0200
TZOFFSETTO:+0100
TZNAME:CET
END:STANDARD
END:VTIMEZONE
END:VCALENDAR