BEGIN:VCALENDAR
VERSION:2.0
PRODID:-//wp-events-plugin.com//7.2.3.1//EN
TZID:Europe/Amsterdam
X-WR-TIMEZONE:Europe/Amsterdam
BEGIN:VEVENT
UID:36083@agenda-zaanstreek.nl
DTSTART;TZID=Europe/Amsterdam:20250109T200000
DTEND;TZID=Europe/Amsterdam:20250109T200000
DTSTAMP:20241128T132230Z
URL:https://agenda-zaanstreek.nl/events/casa-mia-een-muzikale-komedie-met-
 liters-limoncello/
SUMMARY:Casa Mia - Een muzikale komedie met liters limoncello
DESCRIPTION:\n\ndo9 jan 202520.00Albert HeijnzaalBestel\n\n\nMeer Info\n\n\
 nReis mee naar Italië en ervaar ‘la dolce vita’! Of is het toch niet 
 zo zonnig als het lijkt?&nbsp\;Casa Mia&nbsp\;is een vlijmscherpe muzikale
  komedie met Italiaanse muziek\, familieperikelen over de erfenis van oma\
 , foute keuzes en onverwachte wendingen. Met een cast aangevoerd door de v
 eelzijdige Isa Hoes – die na 12 jaar weer terugkeert naar het theater 
 – en met Peggy Vrijens\, Teunie de Brouwer en Joe Sinduhije is het een a
 vond onvervalst lachen en genieten.\n\n\n\n\n\n\nWanneer moeder Lynn en do
 chter Kyra samen afreizen naar Taormina op Sicilië om een plan te maken v
 oor de erfenis van oma\, de vakantievilla Casa Mia. Moeder en dochter zijn
  de afgelopen jaren uit elkaar gegroeid\, maar hopen dat de zon\, de pasta
  en de afwikkeling van oma’s testament hun band weer versterkt. Ze reken
 en alleen niet op een boel oud zeer\, een onuitgenodigde zus én een plots
  oplaaiende bosbrand. Samen met een wel héle bemoeizuchtige makelaar word
 en ze van de buitenwereld afgesloten. Dan rest er maar één optie: de fle
 s limoncello en álle beerputten wagenwijd open.\n\nCasa&nbsp\;Mia\, hét 
 vriendinnenuitje van het seizoen. Salute!\n\n\nLees meer\n\n\n\n\n&nbsp\;\
 n\n\n
CATEGORIES:Theater,Toneel
LOCATION:Zaantheater\, Nicolaasstraat 3\, Zaandam\, 1506 BB\, Nederland
X-APPLE-STRUCTURED-LOCATION;VALUE=URI;X-ADDRESS=Nicolaasstraat 3\, Zaandam\
 , 1506 BB\, Nederland;X-APPLE-RADIUS=100;X-TITLE=Zaantheater:geo:0,0
END:VEVENT
BEGIN:VTIMEZONE
TZID:Europe/Amsterdam
X-LIC-LOCATION:Europe/Amsterdam
BEGIN:STANDARD
DTSTART:20241027T020000
TZOFFSETFROM:+0200
TZOFFSETTO:+0100
TZNAME:CET
END:STANDARD
END:VTIMEZONE
END:VCALENDAR