BEGIN:VCALENDAR
VERSION:2.0
PRODID:-//wp-events-plugin.com//7.2.3.1//EN
TZID:Europe/Amsterdam
X-WR-TIMEZONE:Europe/Amsterdam
BEGIN:VEVENT
UID:37248@agenda-zaanstreek.nl
DTSTART;TZID=Europe/Amsterdam:20250213T200000
DTEND;TZID=Europe/Amsterdam:20250213T200000
DTSTAMP:20250206T110556Z
URL:https://agenda-zaanstreek.nl/events/casa-mia-een-muzikale-komedie-met-
 liters-limoncello-2/
SUMMARY:Casa Mia - Een muzikale komedie met liters limoncello
DESCRIPTION:\n*De voorstelling is verplaatst van 9 januari naar 13 februari
 . De bezoekers met kaarten hebben bericht gehad.\n\n\nReis mee naar Itali
 ë en ervaar ‘la dolce vita’! Of is het toch niet zo zonnig als het li
 jkt?&nbsp\;Casa Mia&nbsp\;is een vlijmscherpe muzikale komedie met Italiaa
 nse muziek\, familieperikelen over de erfenis van oma\, foute keuzes en on
 verwachte wendingen. Met een cast aangevoerd door de veelzijdige Isa Hoes 
 – die na 12 jaar weer terugkeert naar het theater – en met Peggy Vrije
 ns\, Teunie de Brouwer en Joe Sinduhije is het een avond onvervalst lachen
  en genieten.\n\n\n\n\n\n\nWanneer moeder Lynn en dochter Kyra samen afrei
 zen naar Taormina op Sicilië om een plan te maken voor de erfenis van oma
 \, de vakantievilla Casa Mia. Moeder en dochter zijn de afgelopen jaren ui
 t elkaar gegroeid\, maar hopen dat de zon\, de pasta en de afwikkeling van
  oma’s testament hun band weer versterkt. Ze rekenen alleen niet op een 
 boel oud zeer\, een onuitgenodigde zus én een plots oplaaiende bosbrand. 
 Samen met een wel héle bemoeizuchtige makelaar worden ze van de buitenwer
 eld afgesloten. Dan rest er maar één optie: de fles limoncello en álle 
 beerputten wagenwijd open.\n\nCasa&nbsp\;Mia\, hét vriendinnenuitje van h
 et seizoen. Salute!\n\n\n\n&nbsp\;\n\n
CATEGORIES:Theater,Toneel
LOCATION:Zaantheater\, Nicolaasstraat 3\, Zaandam\, 1506 BB\, Nederland
X-APPLE-STRUCTURED-LOCATION;VALUE=URI;X-ADDRESS=Nicolaasstraat 3\, Zaandam\
 , 1506 BB\, Nederland;X-APPLE-RADIUS=100;X-TITLE=Zaantheater:geo:0,0
END:VEVENT
BEGIN:VTIMEZONE
TZID:Europe/Amsterdam
X-LIC-LOCATION:Europe/Amsterdam
BEGIN:STANDARD
DTSTART:20241027T020000
TZOFFSETFROM:+0200
TZOFFSETTO:+0100
TZNAME:CET
END:STANDARD
END:VTIMEZONE
END:VCALENDAR