BEGIN:VCALENDAR
VERSION:2.0
PRODID:-//wp-events-plugin.com//7.2.3.1//EN
TZID:Europe/Amsterdam
X-WR-TIMEZONE:Europe/Amsterdam
BEGIN:VEVENT
UID:36237@agenda-zaanstreek.nl
DTSTART;TZID=Europe/Amsterdam:20250118T210000
DTEND;TZID=Europe/Amsterdam:20250118T210000
DTSTAMP:20241205T152333Z
URL:https://agenda-zaanstreek.nl/events/campus-be-inner-space-de-en-loyalt
 y-ends-here-nl/
SUMMARY:Campus (be)\, Inner Space (de) en Loyalty Ends Here (nl)
DESCRIPTION:\n\n\n\n\n\n\n\n\n\n 	\n\nzaterdag\, jan 18\, 2025Open: 20:30Aa
 nvang: 21:00Prijs: VVK: €10\,- Deur: €15\,-\n\n\n\n\n\nHOLY SHIT.&nbsp
 \;\n\nDeze line-up zagen jullie vast niet aankomen\, maar we hebben het vo
 or elkaar!\nCAMPUS\, INNER SPACE &amp\; LOYALTY ENDS HERE komen even een k
 eiharde show neerzetten deze avond.&nbsp\;\n\nAfgelopen zomer stonden ze n
 og op JERA open air en nu dus bij ons op het podium:&nbsp\;\n\nCAMPUS\n“
 After a decade-long hiatus since their last show\, CAMPUS is making a triu
 mphant return in their original lineup. The first pop-up performance at Pu
 kkelpop and a try-out at the AB Club in 2023 proved to be a resounding suc
 cess\, leaving everyone craving more. The Belgian melodic hardcore band is
  not content to rest on their laurels from the past. New tracks are alread
 y in the pipeline\, some are already out\, some are ready to be unleashed 
 soon. Exciting plans are in motion\, and the band is open to bookings and 
 collaborations both domestically and internationally.“\n\nINNER SPACE\n
 “Inner Space are one such band\, taking inspiration from dissonance and 
 brutality\, with the add of pissed beyond pissed shredding screams to thei
 r sound world. Lyrically\, their singer Eric shrieks and growls about soci
 al unrests and divided societies in our modern days. With everything blend
  together\, the course is set for a path\, that couldn’t be more harsh a
 nd furious.”\n\nLOYALTY ENDS HERE\n“The band’s name\, Loyalty Ends H
 ere\, carries a profound meaning that resonates throughout their music and
  lyrical themes. Their lyrics delve deep into the complexities of human co
 nnections\, exploring the dichotomy between loyalty and betrayal. Through 
 their music\, they paint a vivid picture of the fragility of relationships
 \, especially in the face of adversity. The band’s emotionally charged c
 ompositions and impassioned performances serve as a cathartic outlet\, all
 owing listeners to navigate the intricate tapestry of human trust and dece
 it.”\n\n&nbsp\;\n\nKoop snel die kaarten in de vvk want het kan druk wor
 den.&nbsp\;\nDe vvk loopt tot 17 januari 15:00 daarna zijn er beperkt kaar
 ten aan de deur verkrijgbaar.&nbsp\;\n\n\n\n\n\n\n
CATEGORIES:Muziek
LOCATION:De Groote Weiver\, Industrieweg 1a\, Wormerveer\, 1521 NA\, Wormer
 veer\, Nederland
X-APPLE-STRUCTURED-LOCATION;VALUE=URI;X-ADDRESS=Industrieweg 1a\, Wormervee
 r\, 1521 NA\, Wormerveer\, Nederland;X-APPLE-RADIUS=100;X-TITLE=De Groote 
 Weiver:geo:0,0
END:VEVENT
BEGIN:VTIMEZONE
TZID:Europe/Amsterdam
X-LIC-LOCATION:Europe/Amsterdam
BEGIN:STANDARD
DTSTART:20241027T020000
TZOFFSETFROM:+0200
TZOFFSETTO:+0100
TZNAME:CET
END:STANDARD
END:VTIMEZONE
END:VCALENDAR