BEGIN:VCALENDAR
VERSION:2.0
PRODID:-//wp-events-plugin.com//7.2.3.1//EN
TZID:Europe/Amsterdam
X-WR-TIMEZONE:Europe/Amsterdam
BEGIN:VEVENT
UID:35573@agenda-zaanstreek.nl
DTSTART;TZID=Europe/Amsterdam:20250208T201500
DTEND;TZID=Europe/Amsterdam:20250208T201500
DTSTAMP:20241031T132821Z
URL:https://agenda-zaanstreek.nl/events/cameretten-finalistentournee/
SUMMARY:Cameretten finalistentournee
DESCRIPTION:\n\n\n\n\n&nbsp\;\n\n\n\n\n\n\n\nAl 58 jaar gaat Cameretten Fes
 tival ieder theaterseizoen op zoek naar hét nieuwe cabarettalent van Nede
 rland en Vlaanderen. De drie acts die de finale hebben weten te halen in d
 e Koninklijke Schouwburg in Den Haag\, kunnen zich nu presenteren in vele 
 theaters in het land.\n\n\n&nbsp\;\nMaak kennis met een nieuwe generatie c
 abaretiers die de komende jaren de Nederlandse theaters gaan bestormen! Hi
 larische grappen\, herkenbare typetjes\, ongemakkelijke sketches en muzika
 le juweeltjes: tijdens de finalistentour komt van alles voorbij.\n\nUit de
  kweekvijver van Cameretten zijn veel bekende cabaretiers voortgekomen zoa
 ls Brigitte Kaandorp\, Theo Maassen\, Richard Groenendijk\, Jandino Aspora
 at\, Patrick Laureij\, Plien &amp\; Bianca\, Daniël Arends\, René van M
 eurs\, Ronald Goedemondt\, Guido Weijers en velen meer.\n\n 	Datum: 8 febr
 uari 2025\n 	Aanvang: 20.15 uur\n 	Ticketprijs: € 21\,00\n 	Inclusief co
 nsumptie\n 	Cabaret\n\n\nTickets bestellen\n\n
CATEGORIES:Cabaret
LOCATION:Theater de Kaasfabriek\, Dorpsstraat 206\, Wormer\, 1531 HS\, Worm
 er\, Nederland
X-APPLE-STRUCTURED-LOCATION;VALUE=URI;X-ADDRESS=Dorpsstraat 206\, Wormer\, 
 1531 HS\, Wormer\, Nederland;X-APPLE-RADIUS=100;X-TITLE=Theater de Kaasfab
 riek:geo:0,0
END:VEVENT
BEGIN:VTIMEZONE
TZID:Europe/Amsterdam
X-LIC-LOCATION:Europe/Amsterdam
BEGIN:STANDARD
DTSTART:20241027T020000
TZOFFSETFROM:+0200
TZOFFSETTO:+0100
TZNAME:CET
END:STANDARD
END:VTIMEZONE
END:VCALENDAR