BEGIN:VCALENDAR
VERSION:2.0
PRODID:-//wp-events-plugin.com//7.2.3.1//EN
TZID:Europe/Amsterdam
X-WR-TIMEZONE:Europe/Amsterdam
BEGIN:VEVENT
UID:38200@agenda-zaanstreek.nl
DTSTART;TZID=Europe/Amsterdam:20250418T200000
DTEND;TZID=Europe/Amsterdam:20250420T200000
DTSTAMP:20250410T095532Z
URL:https://agenda-zaanstreek.nl/events/cafe-t-laantje-paas-party-weekend/
SUMMARY:Café ’t Laantje: Paas Party Weekend
DESCRIPTION:\n\n\n\n\n\nPaasfeest\n\n\n\n\n\n\n\nDeel het met je vrienden\,
  vriendinnen\, vader\, moeder\, broer\, zus\, hond en kat! Het Paasweekend
  wordt één groot feest bij café ’t Laantje in Wormerveer. Het weekend
  wordt op vrijdag om 19.00 uur afgetrapt met een optreden van Frans Zeilma
 ker op. Op zaterdag 19 april is er vanaf 20.00 uur een 90’s Party met DJ
  Deniece en op zondag 20 april vanaf 17.00 uur een Hollandse middag met op
 tredens van Daan de Groot &amp\; vrienden.\n\n\n\n
CATEGORIES:Horeca,Muziek
LOCATION:Café 't Laantje\, Krommenieërweg 72\, Wormerveer\, 1521 HK\, Ned
 erland
X-APPLE-STRUCTURED-LOCATION;VALUE=URI;X-ADDRESS=Krommenieërweg 72\, Wormer
 veer\, 1521 HK\, Nederland;X-APPLE-RADIUS=100;X-TITLE=Café 't Laantje:geo
 :0,0
END:VEVENT
BEGIN:VTIMEZONE
TZID:Europe/Amsterdam
X-LIC-LOCATION:Europe/Amsterdam
BEGIN:DAYLIGHT
DTSTART:20250330T030000
TZOFFSETFROM:+0100
TZOFFSETTO:+0200
TZNAME:CEST
END:DAYLIGHT
END:VTIMEZONE
END:VCALENDAR