BEGIN:VCALENDAR
VERSION:2.0
PRODID:-//wp-events-plugin.com//7.2.3.1//EN
TZID:Europe/Amsterdam
X-WR-TIMEZONE:Europe/Amsterdam
BEGIN:VEVENT
UID:39089@agenda-zaanstreek.nl
DTSTART;TZID=Europe/Amsterdam:20250614T000000
DTEND;TZID=Europe/Amsterdam:20250614T000000
DTSTAMP:20250605T095806Z
URL:https://agenda-zaanstreek.nl/events/cacao-in-actie-op-hoogtij-uitverko
 cht/
SUMMARY:Cacao in actie op Hoogtij - Uitverkocht
DESCRIPTION:\n14 juni\n\n\n\n\n\n\nZaanstad\n\n\n\n\n\n\nAL\n\n\n\n\n\n\n
 € Gratis\n\n\n\n\n\n\nBezoek in één rondleiding drie fascinerende bedr
 ijven: Vollers Holland\, CTVrede en Gam Bakker. Ontdek cacao in actie op H
 oogtij.\n\n\n\nOp het bedrijventerrein Hoogtij bevinden zich CTVrede\, Vol
 lers Holland en Gam Bakker. CTVrede is met haar inlandterminals in Amsterd
 am en Westzaan de logistieke serviceprovider in Noord Nederland voor multi
 mediaal containervervoer. Vollers is één van de grootste cacaovemen in h
 et Noordzeekanaalgebied. Hier worden cacaobonen opgeslagen afkomstig uit W
 est-Afrika voor Cargill. Gam Bakker is een logistieke dienstverlener die m
 et name sterk vertegenwoordigd is in de cacaosector.\n\nPraktische info\nG
 ratis rondleiding&nbsp\;\nTijdens Zeehavendagen Amsterdam zetten CTVrede\,
  Vollers en Gam Bakker speciaal voor jou hun deuren open! Bij CTVrede neem
  je een kijkje op de indrukwekkende terminal\, Vollers neemt je mee op een
  boeiende rondleiding over het terrein én in een loods vol opgeslagen bon
 en. Daarna ontdek je bij Gam Bakker de warehouses die direct achter partne
 r CTVrede liggen. Zie onderstaand het adres waar de rondleiding start.\n\n
 Deelnemers per rondleiding\nDe drie bedrijven geven op zaterdag 14 juni é
 én gezamenlijke rondleiding van een uur waarbij je alledrie de locaties b
 ezoekt. Aan een rondleiding kunnen maximaal 15 personen deelnemen. Kies ze
 lf je tijdslot via: bestel je tickets.\n\nMinimum leeftijd\nDeze tour is g
 eschikt voor alle leeftijden. Kinderen kunnen deelnemen onder begeleiding 
 van een volwassene.\n\nBereikbaarheid\nPer auto bereikbaar. Gratis parkere
 n op het terrein.\n\nAdres\nCTVrede\nAchterspring 1\n1551 NR Westzaan\n\nL
 et op! Deze rondleiding is minder geschikt voor mensen die slecht ter been
  zijn.\n\n
CATEGORIES:Excursie
LOCATION:Westzaan\, -\, -\, Nederland
X-APPLE-STRUCTURED-LOCATION;VALUE=URI;X-ADDRESS=-\, -\, Nederland;X-APPLE-R
 ADIUS=100;X-TITLE=Westzaan:geo:0,0
END:VEVENT
BEGIN:VTIMEZONE
TZID:Europe/Amsterdam
X-LIC-LOCATION:Europe/Amsterdam
BEGIN:DAYLIGHT
DTSTART:20250330T030000
TZOFFSETFROM:+0100
TZOFFSETTO:+0200
TZNAME:CEST
END:DAYLIGHT
END:VTIMEZONE
END:VCALENDAR