BEGIN:VCALENDAR
VERSION:2.0
PRODID:-//wp-events-plugin.com//7.2.3.1//EN
TZID:Europe/Amsterdam
X-WR-TIMEZONE:Europe/Amsterdam
BEGIN:VEVENT
UID:36853@agenda-zaanstreek.nl
DTSTART;TZID=Europe/Amsterdam:20250117T210000
DTEND;TZID=Europe/Amsterdam:20250117T210000
DTSTAMP:20250116T100849Z
URL:https://agenda-zaanstreek.nl/events/bzt-noordersluis-de-coolcast/
SUMMARY:BZT\, Noordersluis\, De coolcast
DESCRIPTION:\n\n\n\n\n\n\n\n\n\n 	\n\nvrijdag\, jan 17\, 2025Open: 20:30Aan
 vang: 21:00Prijs: Gratis\n\n\n\n\n\n3 X LIVE.\n\nVoor ieder wat wils dus.&
 nbsp\;\nEN\nGratis entree.&nbsp\;\n\n\n\n\n\n\n
CATEGORIES:Muziek
LOCATION:De Groote Weiver\, Industrieweg 1a\, Wormerveer\, 1521 NA\, Wormer
 veer\, Nederland
X-APPLE-STRUCTURED-LOCATION;VALUE=URI;X-ADDRESS=Industrieweg 1a\, Wormervee
 r\, 1521 NA\, Wormerveer\, Nederland;X-APPLE-RADIUS=100;X-TITLE=De Groote 
 Weiver:geo:0,0
END:VEVENT
BEGIN:VTIMEZONE
TZID:Europe/Amsterdam
X-LIC-LOCATION:Europe/Amsterdam
BEGIN:STANDARD
DTSTART:20241027T020000
TZOFFSETFROM:+0200
TZOFFSETTO:+0100
TZNAME:CET
END:STANDARD
END:VTIMEZONE
END:VCALENDAR