BEGIN:VCALENDAR
VERSION:2.0
PRODID:-//wp-events-plugin.com//7.2.3.1//EN
TZID:Europe/Amsterdam
X-WR-TIMEZONE:Europe/Amsterdam
BEGIN:VEVENT
UID:37756@agenda-zaanstreek.nl
DTSTART;TZID=Europe/Amsterdam:20250316T110000
DTEND;TZID=Europe/Amsterdam:20250316T160000
DTSTAMP:20250313T104648Z
URL:https://agenda-zaanstreek.nl/events/bruidsbeurs-bij-lab-44/
SUMMARY:Bruidsbeurs bij LAB 44
DESCRIPTION:Droom je van de perfecte bruiloft? Kom dan naar de Trouwbeurs i
 n Zaandam! Deze bruisende beurs is dé plek om alles te vinden wat je nodi
 g hebt voor jouw grote dag. Van de mooiste trouwjurken en pakken tot fanta
 stische bloemen\, planners\, catering en fotografen – je vindt het hier 
 allemaal onder één dak.\n\nLab-44 Zaandam | Middenweg 44 | Zaandam\n\nZo
 ndag 16 maart 2025 van 11.00 tot 16.00 uur. De entree en het parkeren is g
 ratis.\n\nVoor meer informatie ga naar&nbsp\;Trouwevents
CATEGORIES:Evenement
LOCATION:Lab 44 voor makers en eters\, Hembrugterrein - Middenweg 44\, Zaan
 dam\, 1506 PP\, Nederland
X-APPLE-STRUCTURED-LOCATION;VALUE=URI;X-ADDRESS=Hembrugterrein - Middenweg 
 44\, Zaandam\, 1506 PP\, Nederland;X-APPLE-RADIUS=100;X-TITLE=Lab 44 voor 
 makers en eters:geo:0,0
END:VEVENT
BEGIN:VTIMEZONE
TZID:Europe/Amsterdam
X-LIC-LOCATION:Europe/Amsterdam
BEGIN:STANDARD
DTSTART:20241027T020000
TZOFFSETFROM:+0200
TZOFFSETTO:+0100
TZNAME:CET
END:STANDARD
END:VTIMEZONE
END:VCALENDAR