BEGIN:VCALENDAR
VERSION:2.0
PRODID:-//wp-events-plugin.com//7.2.3.1//EN
TZID:Europe/Amsterdam
X-WR-TIMEZONE:Europe/Amsterdam
BEGIN:VEVENT
UID:40602@agenda-zaanstreek.nl
DTSTART;TZID=Europe/Amsterdam:20251114T200000
DTEND;TZID=Europe/Amsterdam:20251114T200000
DTSTAMP:20251106T111755Z
URL:https://agenda-zaanstreek.nl/events/brel-de-musical-met-sjors-van-der-
 panne-2/
SUMMARY:BREL – de musical Met Sjors van der Panne
DESCRIPTION:\n\n 	Musical\n\n\n\n\nJacques Brel - een naam die muziek\, po
 ëzie en pure emotie ademt. Na eerdere succesvolle biografische musicals o
 ver Piaf\, Billie Holiday\, Sonneveld en Annie M.G. Schmidt presenteert Al
 bert Verlinde samen met Bram Verhaak een biografische musical over één v
 an de meest iconische chansonniers aller tijden: Jacques Brel. Met Sjors v
 an der Panne in de titelrol\, Wieneke Remmers als Miche Brel en Stefan Rok
 ebrand als zijn beste vriend Jojo.\n\n\n\n\n\n\nEen Reis door het Leven va
 n een Legende\n\nAlleen al door het noemen van zijn achternaam weet nog st
 eeds iedereen wie hij was. Aan de hand van zijn grootste hits\, als Ne Me 
 Quitte Pas\, Brussel\, Amsterdam\, Madeleine\, Liefde van later en vele an
 dere\, word je meegenomen door zijn leven. Een indrukwekkend leven vol lie
 fde\, vriendschap en natuurlijk muziek. De meeste nummers worden in deze v
 oorstelling in het Nederlands gezongen. Met BREL – de musical maakt een 
 nieuwe generatie kennis met zijn geweldige chansons en ontmoeten de liefhe
 bbers Brel weer opnieuw. Een voorstelling bestaande uit 7 acteurs en 3 muz
 ikanten.\n\n\n\n
CATEGORIES:Musical,Muziek
LOCATION:Zaantheater\, Nicolaasstraat 3\, Zaandam\, 1506 BB\, Nederland
X-APPLE-STRUCTURED-LOCATION;VALUE=URI;X-ADDRESS=Nicolaasstraat 3\, Zaandam\
 , 1506 BB\, Nederland;X-APPLE-RADIUS=100;X-TITLE=Zaantheater:geo:0,0
END:VEVENT
BEGIN:VTIMEZONE
TZID:Europe/Amsterdam
X-LIC-LOCATION:Europe/Amsterdam
BEGIN:STANDARD
DTSTART:20251026T020000
TZOFFSETFROM:+0200
TZOFFSETTO:+0100
TZNAME:CET
END:STANDARD
END:VTIMEZONE
END:VCALENDAR