BEGIN:VCALENDAR
VERSION:2.0
PRODID:-//wp-events-plugin.com//7.2.3.1//EN
TZID:Europe/Amsterdam
X-WR-TIMEZONE:Europe/Amsterdam
BEGIN:VEVENT
UID:39043@agenda-zaanstreek.nl
DTSTART;TZID=Europe/Amsterdam:20250607T090000
DTEND;TZID=Europe/Amsterdam:20250607T170000
DTSTAMP:20250603T194829Z
URL:https://agenda-zaanstreek.nl/events/braderie-zaanbocht/
SUMMARY:Braderie Zaanbocht
DESCRIPTION:
CATEGORIES:Markt Braderie
LOCATION:Wormerveer Zaanbocht\, -\, Wormerveer\, Wormerveer\, Nederland
X-APPLE-STRUCTURED-LOCATION;VALUE=URI;X-ADDRESS=-\, Wormerveer\, Wormerveer
 \, Nederland;X-APPLE-RADIUS=100;X-TITLE=Wormerveer Zaanbocht:geo:0,0
END:VEVENT
BEGIN:VTIMEZONE
TZID:Europe/Amsterdam
X-LIC-LOCATION:Europe/Amsterdam
BEGIN:DAYLIGHT
DTSTART:20250330T030000
TZOFFSETFROM:+0100
TZOFFSETTO:+0200
TZNAME:CEST
END:DAYLIGHT
END:VTIMEZONE
END:VCALENDAR