BEGIN:VCALENDAR
VERSION:2.0
PRODID:-//wp-events-plugin.com//7.2.3.1//EN
TZID:Europe/Amsterdam
X-WR-TIMEZONE:Europe/Amsterdam
BEGIN:VEVENT
UID:37138@agenda-zaanstreek.nl
DTSTART;TZID=Europe/Amsterdam:20250220T193000
DTEND;TZID=Europe/Amsterdam:20250220T213000
DTSTAMP:20250205T102236Z
URL:https://agenda-zaanstreek.nl/events/bowlen-met-de-zaanse-regenboog-3/
SUMMARY:Bowlen met De Zaanse Regenboog
DESCRIPTION:Donderdag 20 februari\nBowlen met De Zaanse Regenboog van 19.30
  tot 21.30 uur.\nInfo en aanmelden: info@dezaanseregenboog.nl\nDe zaal is 
 bereikbaar via een trap. Eigen bijdrage 15 euro (incl. hapjes en drankjes)
CATEGORIES:Recreatiesport,Sociaal | LHBTQI-gemeenschap
LOCATION:Bowling & Partycentrum Zaandam\, Vrieschgroenstraat 3\, Zaandam\, 
 1503 MC\, Nederland
X-APPLE-STRUCTURED-LOCATION;VALUE=URI;X-ADDRESS=Vrieschgroenstraat 3\, Zaan
 dam\, 1503 MC\, Nederland;X-APPLE-RADIUS=100;X-TITLE=Bowling & Partycentru
 m Zaandam:geo:0,0
END:VEVENT
BEGIN:VTIMEZONE
TZID:Europe/Amsterdam
X-LIC-LOCATION:Europe/Amsterdam
BEGIN:STANDARD
DTSTART:20241027T020000
TZOFFSETFROM:+0200
TZOFFSETTO:+0100
TZNAME:CET
END:STANDARD
END:VTIMEZONE
END:VCALENDAR