BEGIN:VCALENDAR
VERSION:2.0
PRODID:-//wp-events-plugin.com//7.2.3.1//EN
TZID:Europe/Amsterdam
X-WR-TIMEZONE:Europe/Amsterdam
BEGIN:VEVENT
UID:36344@agenda-zaanstreek.nl
DTSTART;TZID=Europe/Amsterdam:20250208T200000
DTEND;TZID=Europe/Amsterdam:20250208T200000
DTSTAMP:20241212T102853Z
URL:https://agenda-zaanstreek.nl/events/borrelnootjez-el7ebs-gevangenis-2/
SUMMARY:BORRELNOOTJEZ EL7EBS (gevangenis)
DESCRIPTION:&nbsp\;\nWat gisteren nog oké was\, is vandaag not done. In EL
 7EBS\, de nieuwe comedy theatershow van het populaire BORRELNOOTJEZ\, is N
 ederland veranderd in een dystopische dwangbuis waar je niets meer mag zeg
 gen over iets of iemand. Voor Arnold\, MischMisch\, Fatah\, Reza\, Fou3ad 
 en een hele stal aan nieuwe typetjes staat hun bestaan op het spel. Kunnen
  zij nog zijn wie ze waren of gaan zij gebukt onder het nieuwe regime?\n\n
 \n\n\nMet de nieuwe show&nbsp\;EL7EBS&nbsp\;is niet lachen onmogelijk. De 
 BORRELNOOTJEZ slepen je door een proces van ondervraging\, rechtbanktorrie
 s tot aan de bajes mee. Met dit keer nog meer typetjes\, absurde situaties
 \, muziek\, zelfspot en een flinke dosis slapstick geven Khalid en Hamza j
 e een kijkje in hun schizofrene hoofden. ‘Of mag je dat niet meer zeggen
 ?\n\nNa de show zien wij (Khalid &amp\; Hamza) je graag bij de “Politie 
 line-up” voor een meet en greet!\n\nBORRELNOOTJEZ werd bekend op YouTube
 . Bekijk&nbsp\;hier&nbsp\;hun YouTube-kanaal.\n\n\n\n
CATEGORIES:Cabaret
LOCATION:Zaantheater\, Nicolaasstraat 3\, Zaandam\, 1506 BB\, Nederland
X-APPLE-STRUCTURED-LOCATION;VALUE=URI;X-ADDRESS=Nicolaasstraat 3\, Zaandam\
 , 1506 BB\, Nederland;X-APPLE-RADIUS=100;X-TITLE=Zaantheater:geo:0,0
END:VEVENT
BEGIN:VTIMEZONE
TZID:Europe/Amsterdam
X-LIC-LOCATION:Europe/Amsterdam
BEGIN:STANDARD
DTSTART:20241027T020000
TZOFFSETFROM:+0200
TZOFFSETTO:+0100
TZNAME:CET
END:STANDARD
END:VTIMEZONE
END:VCALENDAR