BEGIN:VCALENDAR
VERSION:2.0
PRODID:-//wp-events-plugin.com//7.2.3.1//EN
TZID:Europe/Amsterdam
X-WR-TIMEZONE:Europe/Amsterdam
BEGIN:VEVENT
UID:37877@agenda-zaanstreek.nl
DTSTART;TZID=Europe/Amsterdam:20250426T100000
DTEND;TZID=Europe/Amsterdam:20250426T180000
DTSTAMP:20250320T155218Z
URL:https://agenda-zaanstreek.nl/events/booypop-krommenie/
SUMMARY:Booypop Krommenie
DESCRIPTION:\n\n\n\n\nEvenement van&nbsp\;Jeroen Booy\n\n\n\n\n\n\n\n\n&nbs
 p\;\n\n\n\nZuiderhoofdstraat\, Krommenie\, Nederland\n\n\n\n\n\n\n\n\n\n&n
 bsp\;\n\n\nOpenbaar&nbsp\;&nbsp\;·&nbsp\;Iedereen op Facebook en daarbuit
 en\n\n\n\n\n\n\n\nKoningsdag 26 april 2025"BOOYPOP"\n10.00 Dansschool Danc
 ebase11.00 SilverVox12.00 Nobody's band13.00 Rabauw14.00 Rauw en Teder15.0
 0 Trashwood16.00 Moerstaal17.00 Permission to Land&nbsp\;\n\n
CATEGORIES:Muziek
LOCATION:Krommenie\, -\, -\, Nederland
X-APPLE-STRUCTURED-LOCATION;VALUE=URI;X-ADDRESS=-\, -\, Nederland;X-APPLE-R
 ADIUS=100;X-TITLE=Krommenie:geo:0,0
END:VEVENT
BEGIN:VTIMEZONE
TZID:Europe/Amsterdam
X-LIC-LOCATION:Europe/Amsterdam
BEGIN:DAYLIGHT
DTSTART:20250330T030000
TZOFFSETFROM:+0100
TZOFFSETTO:+0200
TZNAME:CEST
END:DAYLIGHT
END:VTIMEZONE
END:VCALENDAR