BEGIN:VCALENDAR
VERSION:2.0
PRODID:-//wp-events-plugin.com//7.2.3.1//EN
TZID:Europe/Amsterdam
X-WR-TIMEZONE:Europe/Amsterdam
BEGIN:VEVENT
UID:40356@agenda-zaanstreek.nl
DTSTART;TZID=Europe/Amsterdam:20251107T200000
DTEND;TZID=Europe/Amsterdam:20251107T200000
DTSTAMP:20251008T092408Z
URL:https://agenda-zaanstreek.nl/events/bonafied/
SUMMARY:Bonafied
DESCRIPTION:\n\n&nbsp\;\n\n\n\n\n\n\n\n\n\n\n\n\n\n\n\nDe beste coverband u
 it de Zaanstreek die iedereen aan het dansen krijgt!\n\nBonafied is een gr
 oep ervaren muzikanten met passie voor muziek. De Zaanse band levert een c
 ombinatie van plezier\, humor\, passie\, vakmanschap en een hele hoop erva
 ring op topniveau.&nbsp\;Het repertoire bestaat uit bekende dansbare hits 
 van verschillende genres: Soul\, Disco\, Dance Classics\, Pop\, Dance en H
 ouse\, maar ook hedendaagse hits ontbreken niet. Altijd herkenbaar en alti
 jd dansbaar.\n\nHet belooft een feestelijke avond te worden met geweldige 
 muziek!\n\nDit is een sta-concert.\n\nTickets: € 17\,50 (+ € 2 reserve
 ringskosten)\nAan de deur € 19\,50\n\n\n\n\n\n\n\n\n\n\n\nKoop tickets\n
 \n\n\n\n\n\n\n\n\n\n\n&nbsp\;\n\n\n\n\n\n\n\n\n\n\n\n\n\n\n\n\n\n\n&nbsp\;
 \n\n\n\n\n\n\n\n\n
CATEGORIES:Muziek
LOCATION:Cultureel Centrum Bullekerk (Westzijderkerk)\, Westzijde 75\, Zaan
 dam\, 1506 ED\, Nederland
X-APPLE-STRUCTURED-LOCATION;VALUE=URI;X-ADDRESS=Westzijde 75\, Zaandam\, 15
 06 ED\, Nederland;X-APPLE-RADIUS=100;X-TITLE=Cultureel Centrum Bullekerk (
 Westzijderkerk):geo:0,0
END:VEVENT
BEGIN:VTIMEZONE
TZID:Europe/Amsterdam
X-LIC-LOCATION:Europe/Amsterdam
BEGIN:STANDARD
DTSTART:20251026T020000
TZOFFSETFROM:+0200
TZOFFSETTO:+0100
TZNAME:CET
END:STANDARD
END:VTIMEZONE
END:VCALENDAR