BEGIN:VCALENDAR
VERSION:2.0
PRODID:-//wp-events-plugin.com//7.2.3.1//EN
TZID:Europe/Amsterdam
X-WR-TIMEZONE:Europe/Amsterdam
BEGIN:VEVENT
UID:38628@agenda-zaanstreek.nl
DTSTART;TZID=Europe/Amsterdam:20250511T133000
DTEND;TZID=Europe/Amsterdam:20250511T170000
DTSTAMP:20250508T154007Z
URL:https://agenda-zaanstreek.nl/events/boerenmarkt-2/
SUMMARY:Boerenmarkt
DESCRIPTION:
CATEGORIES:Markt Braderie
LOCATION:White Ranch\, Groenendijk 4\, Assendelft\, 1566 NV\, Nederland
X-APPLE-STRUCTURED-LOCATION;VALUE=URI;X-ADDRESS=Groenendijk 4\, Assendelft\
 , 1566 NV\, Nederland;X-APPLE-RADIUS=100;X-TITLE=White Ranch:geo:0,0
END:VEVENT
BEGIN:VTIMEZONE
TZID:Europe/Amsterdam
X-LIC-LOCATION:Europe/Amsterdam
BEGIN:DAYLIGHT
DTSTART:20250330T030000
TZOFFSETFROM:+0100
TZOFFSETTO:+0200
TZNAME:CEST
END:DAYLIGHT
END:VTIMEZONE
END:VCALENDAR