BEGIN:VCALENDAR
VERSION:2.0
PRODID:-//wp-events-plugin.com//7.2.3.1//EN
TZID:Europe/Amsterdam
X-WR-TIMEZONE:Europe/Amsterdam
BEGIN:VEVENT
UID:36844@agenda-zaanstreek.nl
DTSTART;TZID=Europe/Amsterdam:20250208T160000
DTEND;TZID=Europe/Amsterdam:20250208T180000
DTSTAMP:20250115T103825Z
URL:https://agenda-zaanstreek.nl/events/boekpresentatie-dick-kerssens-het-
 bewaarde-erfgoed-deel-2/
SUMMARY:Boekpresentatie Dick Kerssens ‘Het bewaarde erfgoed deel 2
DESCRIPTION:OP UITNODIGING\n\nboekpresentatie Dick Kerssens ‘Het bewaarde
  erfgoed deel 2 op op 8 februari 2025 van 16.00 tot 18.00 uur in de kantin
 e van JS Cocoa\, D. Sonoyweg 1.\n\n&nbsp\;
CATEGORIES:Erfgoed
LOCATION:Zaandam\, -\, -\, Nederland
X-APPLE-STRUCTURED-LOCATION;VALUE=URI;X-ADDRESS=-\, -\, Nederland;X-APPLE-R
 ADIUS=100;X-TITLE=Zaandam:geo:0,0
END:VEVENT
BEGIN:VTIMEZONE
TZID:Europe/Amsterdam
X-LIC-LOCATION:Europe/Amsterdam
BEGIN:STANDARD
DTSTART:20241027T020000
TZOFFSETFROM:+0200
TZOFFSETTO:+0100
TZNAME:CET
END:STANDARD
END:VTIMEZONE
END:VCALENDAR