BEGIN:VCALENDAR
VERSION:2.0
PRODID:-//wp-events-plugin.com//7.2.3.1//EN
TZID:Europe/Amsterdam
X-WR-TIMEZONE:Europe/Amsterdam
BEGIN:VEVENT
UID:33870@agenda-zaanstreek.nl
DTSTART;TZID=Europe/Amsterdam:20241115T201500
DTEND;TZID=Europe/Amsterdam:20241115T201500
DTSTAMP:20241031T082514Z
URL:https://agenda-zaanstreek.nl/events/blues-aan-de-zaan/
SUMMARY:Blues aan de Zaan
DESCRIPTION:15NOV16BLUES AAN DE ZAAN 2024IN SAMENWERKING MET STICHTING BLUE
 S AAN DE ZAANPodium DE FLUX\, Hemkade 48\, 1506 PS Zaandam20:15 – 00:00(
 16)TICKETS\n\n\n\n\n\nVOORVERKOOP € 22\,00\n\n\n\n\n\n\n\nProgramma Blue
 s aan de Zaan\n\n\n\n\nVrijdag 15 november | aanvang 20:15\nMarlon Pichel\
 nGewapend met een krachtige soulvolle stem en een uitzonderlijk talent op 
 de drums\, is Marlon een van de meest veelbelovende talenten in de Nederla
 ndse soul. Geïnspireerd door de groten der aarde zoals Otis Redding en Wi
 lson Pickett\, neemt hij je mee terug in de tijd van de jaren ’60 en ’
 70\, om je op de meest respectvolle manier de STAX-sound te laten herbelev
 en. Zijn energieke optredens en unieke mix van soul en rock-‘n-roll zull
 en raken. Bereid je voor op een muzikale reis die je terugvoert naar de go
 uden tijden van de soul en laat je meeslepen door de aanstekelijke ritmes 
 en melodieën van dit veelbelovende talent.\n\n\n\n\n\n\n\n\n\n\n\nVrijdag
  15 november | aanvang 20:15\nTen years After\nInternationale veteranen me
 t een iconische livereputatie! Een volwaardige avond blues om niet te miss
 en want ze spelen nummers van hun nieuwste live-opname “Naturally Live
 ” en hun baanbrekende album “Cricklewood Green” in zijn geheel. Dit 
 om het 50-jarige jubileum van deze release te vieren. Klassiekers zoals 
 “Live Like A Man”\, “Good Morning Little Schoolgirl”\, “The Hobb
 it” en ‘Choo Choo Mama” ze komen allemaal voorbij\, om nog maar te z
 wijgen over verschillende verassingen en recente nummers.\n\n\n\n\n\n\nZat
 erdag 16 november | aanvang 19:00\nRuben Hoeke Band\nZoals ieder jaar slui
 t de Ruben Hoeke Band het festival af samen met nieuwe talenten! Gitarist 
 Ruben Hoeke kun je plaatsen in het rijtje muzikanten die de Nederblues en 
 rock naar een hoger niveau hebben getild. Sinds zijn eerste optreden in 19
 92 tourt hij onafgebroken door Nederland en speelde hij op podia in Denema
 rken\, Duitsland\, België\, Estland\, USA\, Ierland\, Luxemburg en Curaç
 ao. In 2004 richtte hij zijn eigen ‘Ruben Hoeke Band’ op. Diverse medi
 a omschrijven Ruben als een ‘stergitarist van wereldklasse’ en ‘een 
 van de grootste eigentijdse Nederlandse gitaristen.’&nbsp\;\n\nGastgitar
 isten tijdens Ruben Hoeke Band:\nFije van der Mark\, Alexander van Velthui
 jsen en Gerben de Man.\n\n\n\n\n\n\n\n\n\n\n\n\nZaterdag 16 november | aan
 vang 19:00\nDanny Bryant Bigband\nDe Britse bluesgitarist en zanger Danny 
 Bryant vervulde een lang gekoesterde droom: zijn liedjes onbewerkt opnemen
  met een negenkoppige bigband\, live voor publiek. Het verbluffende result
 aat\, vastgelegd in het dubbele live-album “BIG”. Wat begon als een oo
 rspronkelijk zijproject\, heeft zelfs Danny Bryant verrast. Meerdere tourn
 ees en festivaloptredens door heel Europa met deze bezetting hebben laten 
 zien welk potentieel in deze unieke combinatie schuilt. De energie en het 
 samenspel op het podium zijn adembenemend\, en de respons van het publiek 
 spreekt voor zich. De combinatie van Bryants gepassioneerde gitaarspel en 
 de krachtige ondersteuning van de bigband creëert een uniek concertervari
 ng die zowel critici als fans enthousiast maakt.\n\n\n\n\n\nZaterdag 16 no
 vember | aanvang 19:00\nThe Damned and Dirty\nZe bestaan al meer dan 10 ja
 ar en vinden zichzelf steeds opnieuw uit. De blues van The Damned and Dirt
 y is verfrissend te noemen en zeker origineel\, terwijl ze ook de meer tra
 ditionele muziek niet schuwen. Een mooie mix van blues zoals we die kennen
  en kennis mee zouden moeten maken\, met een zeer eigen stijl. Niet vreemd
  dat ze als één van de aangedragen bluesacts volgens de vakjury van de D
 utch Blues Awards voor beste Blues Act 2024 uitblinken in de criteria eige
 n stijl\, creatief gebruik van bluestoonladders\, technische vaardigheid\,
  professionaliteit en interactie met het publiek.\n\n\n\n\n\n\n&nbsp\;\n\n
 \n\n\n\nZaterdag 16 november | aanvang 19:00\nMari-Lou\nEen nieuwe ontwikk
 eling bij Blues aan de Zaan festival is de focus op nieuwe talenten. Voor 
 deze editie is er onder leiding van Ben Mendes een begeleidingsband sameng
 esteld. Deze Zaankanter\, bestuurslid van Stichting Badz\, TV/radiomaker\,
  muziekproducent en landbouwspecialist heeft vervolgens gekozen voor het t
 alent Mari-Lou. De muzikanten zullen haar coachen\, het repertoire instude
 ren en dit uiteraard uitvoeren tijdens het festival.&nbsp\;\n\nMari-Lou is
  geboren en getogen in de prachtige Zaanstreek. Haar liefde voor de blues 
 begon tijdens jamsessies hier. Dit genre is volgens haar niet alleen heerl
 ijk om te zingen\, maar ook perfect om je emoties in te uiten. Door de jar
 en heen is ze uitgegroeid tot de trotse zangeres van New Old Stock\, een b
 and waarmee ze al zeven jaar met veel plezier optreedt. Laat je meevoeren 
 door de muziek en ontdek waarom blues zo’n bijzondere plek in haar hart 
 heeft veroverd.\n\n\n\n\n\n\n\n\n
CATEGORIES:Muziek
LOCATION:Podium De Flux\, Hemkade 48\, Zaandam\, 1506 PS\, Nederland
X-APPLE-STRUCTURED-LOCATION;VALUE=URI;X-ADDRESS=Hemkade 48\, Zaandam\, 1506
  PS\, Nederland;X-APPLE-RADIUS=100;X-TITLE=Podium De Flux:geo:0,0
END:VEVENT
BEGIN:VTIMEZONE
TZID:Europe/Amsterdam
X-LIC-LOCATION:Europe/Amsterdam
BEGIN:STANDARD
DTSTART:20241027T020000
TZOFFSETFROM:+0200
TZOFFSETTO:+0100
TZNAME:CET
END:STANDARD
END:VTIMEZONE
END:VCALENDAR