BEGIN:VCALENDAR
VERSION:2.0
PRODID:-//wp-events-plugin.com//7.2.3.1//EN
TZID:Europe/Amsterdam
X-WR-TIMEZONE:Europe/Amsterdam
BEGIN:VEVENT
UID:39863@agenda-zaanstreek.nl
DTSTART;TZID=Europe/Amsterdam:20250829T200000
DTEND;TZID=Europe/Amsterdam:20250829T230000
DTSTAMP:20250807T091614Z
URL:https://agenda-zaanstreek.nl/events/bingo-in-de-kwaker/
SUMMARY:Bingo in De Kwaker
DESCRIPTION:Bingo\n\n\naugustus 29&nbsp\;@&nbsp\;20:00&nbsp\;–&nbsp\;23:0
 0\n\nHet is weer tijd voor de bingo!\n\nMeld je aan via bingowestzaan@gmai
 l.com\n\n
CATEGORIES:Spellen (bingo-bridge-etc)
LOCATION:Dorpshuis De Kwaker\, J.J. Allanstraat 127\, Westzaan\, 1551 RC\, 
 Nederland
X-APPLE-STRUCTURED-LOCATION;VALUE=URI;X-ADDRESS=J.J. Allanstraat 127\, West
 zaan\, 1551 RC\, Nederland;X-APPLE-RADIUS=100;X-TITLE=Dorpshuis De Kwaker:
 geo:0,0
END:VEVENT
BEGIN:VTIMEZONE
TZID:Europe/Amsterdam
X-LIC-LOCATION:Europe/Amsterdam
BEGIN:DAYLIGHT
DTSTART:20250330T030000
TZOFFSETFROM:+0100
TZOFFSETTO:+0200
TZNAME:CEST
END:DAYLIGHT
END:VTIMEZONE
END:VCALENDAR